BEGIN:VCALENDAR
VERSION:2.0
PRODID:-//CROSS Services Food Shelf | Rogers, MN - ECPv6.15.16.1//NONSGML v1.0//EN
CALSCALE:GREGORIAN
METHOD:PUBLISH
X-WR-CALNAME:CROSS Services Food Shelf | Rogers, MN
X-ORIGINAL-URL:https://crossservices.org
X-WR-CALDESC:Events for CROSS Services Food Shelf | Rogers, MN
REFRESH-INTERVAL;VALUE=DURATION:PT1H
X-Robots-Tag:noindex
X-PUBLISHED-TTL:PT1H
BEGIN:VTIMEZONE
TZID:UTC
BEGIN:STANDARD
TZOFFSETFROM:+0000
TZOFFSETTO:+0000
TZNAME:UTC
DTSTART:20240101T000000
END:STANDARD
END:VTIMEZONE
BEGIN:VEVENT
DTSTART;TZID=UTC:20250330T090000
DTEND;TZID=UTC:20250330T120000
DTSTAMP:20260423T153239
CREATED:20250206T022533Z
LAST-MODIFIED:20250222T002212Z
UID:10000144-1743325200-1743336000@crossservices.org
SUMMARY:Fill The Truck at Word of Peace Church
DESCRIPTION:  \nWHEN: Sunday March 30\, 2025 from 9:00 am – 12:00 pm \nWHERE: Word of Peace Lutheran Church – 21705 129th Ave N\, Rogers\, MN \nWHAT: The CROSS Services truck will be on site to collect food donations for CROSS Services supporting local individuals and families. \nA portion of all donations given at this event will be matched in part by our March partnership with GMCC’s Minnesota FoodShare Campaign\, making your impact go even further and help more families in need! \nCONTACT: Pat Schwalbe\, Pat@CROSSservices.org or call 763-425-1050 ext. 106 for more details! \nThank you for supporting CROSS Services’ families! \nClick here to view the flyer with Most Needed Grocery Items. You can also shop groceries through our Amazon Store.
URL:https://crossservices.org/event/fill-the-truck-at-word-of-peace-church/
LOCATION:Word of Peace Lutheran Church\, 21705 129th Ave N.\, Rogers\, MN\, 55374
ATTACH;FMTTYPE=image/jpeg:https://crossservices.org/wp-content/uploads/2025/02/FIll-the-Truck.jpg
END:VEVENT
END:VCALENDAR