BEGIN:VCALENDAR
VERSION:2.0
PRODID:-//CROSS Services Food Shelf | Rogers, MN - ECPv6.15.16.1//NONSGML v1.0//EN
CALSCALE:GREGORIAN
METHOD:PUBLISH
X-WR-CALNAME:CROSS Services Food Shelf | Rogers, MN
X-ORIGINAL-URL:https://crossservices.org
X-WR-CALDESC:Events for CROSS Services Food Shelf | Rogers, MN
REFRESH-INTERVAL;VALUE=DURATION:PT1H
X-Robots-Tag:noindex
X-PUBLISHED-TTL:PT1H
BEGIN:VTIMEZONE
TZID:UTC
BEGIN:STANDARD
TZOFFSETFROM:+0000
TZOFFSETTO:+0000
TZNAME:UTC
DTSTART:20220101T000000
END:STANDARD
END:VTIMEZONE
BEGIN:VEVENT
DTSTART;TZID=UTC:20241207T140000
DTEND;TZID=UTC:20241207T170000
DTSTAMP:20260423T233631
CREATED:20241028T212108Z
LAST-MODIFIED:20241028T212108Z
UID:10000118-1733580000-1733590800@crossservices.org
SUMMARY:Santa at The Shoppes of Arbor Lakes
DESCRIPTION:SATURDAY\, DECEMBER 7\n2:00–5:00PM\nTHE SHOPPES AT ARBOR LAKES \nJoin The Shoppes at Arbor Lakes for a festive kick-off to the holiday season and support CROSS Services through a Toy Drive! You can also donate toys directly to CROSS Services by shopping for toys on Amazon. \nSanta at The Shoppes event includes: \n\nCarolers\nHorse Drawn Carriage Rides\nLight Parade\nSanta’s Workshop with Kids Activities\nMarketplace\nHoliday Elfie Selfie Stations\nFire Dancers\nCross Services Toy Drive\nLive Music\nTree Lighting\nAnd of course\, Santa\n\nDon’t miss Santa lighting the tree at 5pm at the roundabout.\nFor more information\, visit shoppesatarborlakes.com/events
URL:https://crossservices.org/event/santa-at-the-shoppes-of-arbor-lakes-2/
LOCATION:The Shoppes at Arbor Lakes\, 12459 Elm Creek Blvd N\, Maple Grove\, MN\, 55369
ATTACH;FMTTYPE=image/png:https://crossservices.org/wp-content/uploads/2024/10/Copy-of-2023-2024-Website-event-Page-Images-8.png
END:VEVENT
BEGIN:VEVENT
DTSTART;TZID=UTC:20231202T143000
DTEND;TZID=UTC:20231202T173000
DTSTAMP:20260423T233631
CREATED:20231104T235221Z
LAST-MODIFIED:20231104T235259Z
UID:10000073-1701527400-1701538200@crossservices.org
SUMMARY:Santa at The Shoppes of Arbor Lakes
DESCRIPTION:SATURDAY\, DECEMBER 2\n2:30–5:30PM\nTHE SHOPPES AT ARBOR LAKES \nJoin The Shoppes at Arbor Lakes as they celebrate the season and support CROSS Services through a Toy Drive! You can also donate toys directly to CROSS Services by shopping for toys on Amazon. \nSanta at The Shoppes event includes: \n\nCarolers\nHorse Drawn Carriage Rides\nLight Parade\nSanta’s Workshop with Kids Activities\nFood\nOMNI Warming House\nMarketplace\nHoliday Elfie Selfie Stations\nCross Services Toy Drive\nLive Music\nTree Lighting\nAnd of course\, Santa\n\nDon’t miss Santa lighting the tree at 5pm at the roundabout.\nFor more information\, visit shoppesatarborlakes.com/events
URL:https://crossservices.org/event/santa-at-the-shoppes-of-arbor-lakes/
LOCATION:The Shoppes at Arbor Lakes\, 12459 Elm Creek Blvd N\, Maple Grove\, MN\, 55369
ATTACH;FMTTYPE=image/png:https://crossservices.org/wp-content/uploads/2023/11/Copy-of-Job-Club-newsletter-1600-x-900-px.png
END:VEVENT
END:VCALENDAR