BEGIN:VCALENDAR
VERSION:2.0
PRODID:-//CROSS Services Food Shelf | Rogers, MN - ECPv6.15.16.1//NONSGML v1.0//EN
CALSCALE:GREGORIAN
METHOD:PUBLISH
X-ORIGINAL-URL:https://crossservices.org
X-WR-CALDESC:Events for CROSS Services Food Shelf | Rogers, MN
REFRESH-INTERVAL;VALUE=DURATION:PT1H
X-Robots-Tag:noindex
X-PUBLISHED-TTL:PT1H
BEGIN:VTIMEZONE
TZID:America/Chicago
BEGIN:DAYLIGHT
TZOFFSETFROM:-0600
TZOFFSETTO:-0500
TZNAME:CDT
DTSTART:20240310T080000
END:DAYLIGHT
BEGIN:STANDARD
TZOFFSETFROM:-0500
TZOFFSETTO:-0600
TZNAME:CST
DTSTART:20241103T070000
END:STANDARD
BEGIN:DAYLIGHT
TZOFFSETFROM:-0600
TZOFFSETTO:-0500
TZNAME:CDT
DTSTART:20250309T080000
END:DAYLIGHT
BEGIN:STANDARD
TZOFFSETFROM:-0500
TZOFFSETTO:-0600
TZNAME:CST
DTSTART:20251102T070000
END:STANDARD
BEGIN:DAYLIGHT
TZOFFSETFROM:-0600
TZOFFSETTO:-0500
TZNAME:CDT
DTSTART:20260308T080000
END:DAYLIGHT
BEGIN:STANDARD
TZOFFSETFROM:-0500
TZOFFSETTO:-0600
TZNAME:CST
DTSTART:20261101T070000
END:STANDARD
END:VTIMEZONE
BEGIN:VTIMEZONE
TZID:UTC
BEGIN:STANDARD
TZOFFSETFROM:+0000
TZOFFSETTO:+0000
TZNAME:UTC
DTSTART:20240101T000000
END:STANDARD
END:VTIMEZONE
BEGIN:VEVENT
DTSTART;TZID=America/Chicago:20251106T070000
DTEND;TZID=America/Chicago:20251106T090000
DTSTAMP:20260423T171716
CREATED:20250828T043048Z
LAST-MODIFIED:20251029T174622Z
UID:10000160-1762412400-1762419600@crossservices.org
SUMMARY:Rogers Community Prayer Breakfast
DESCRIPTION:Join us for our 1st Annual Rogers Community Prayer Breakfast.\nOn Thursday\, November 6\, Rogers comes together. Neighbors\, leaders\, and faith partners will gather for CROSS Services’ 1st Annual Rogers Community Prayer Breakfast— a morning of prayer\, music\, and fellowship you won’t want to miss. \n  \nThursday\, November 6 | 7:00am – 9:00am \nThe Crown Room – 20500 South Diamond Lake Rd. Rogers\, MN \n\n7:00 AM – 7:30 AM – Check-in & Community Gathering with Faith Leaders and the Rogers Mayor Shannon Klick\n7:30 AM – 8:00 AM – Blessing of Food & Breakfast Buffet\n8:00 AM – 9:00 AM – Prayer Breakfast Program\n\n  \nLift Up Our Community in Prayer And Worship \nBe inspired by Keynote Speaker Joshua Danis\, Head of Church Partnerships for Hallow\, lifelong Christian and author of “Living the Fruit of the Spirit.” \nReserve Your Seat Or Table \nBe part of a morning that strengthens faith\, community\, and connection. \nRESERVE YOUR SEAT OR TABLE
URL:https://crossservices.org/event/rogers-community-prayer-breakfast/
LOCATION:The Crown Room\, 20500 S Diamond Lake Rd\, Rogers\, Minnesota\, 55374
ATTACH;FMTTYPE=image/jpeg:https://crossservices.org/wp-content/uploads/2025/08/2025-Website-event-Page-Images-1600-x-900px-5.jpg
END:VEVENT
BEGIN:VEVENT
DTSTART;TZID=UTC:20250618T150000
DTEND;TZID=UTC:20250618T173000
DTSTAMP:20260423T171716
CREATED:20250429T223219Z
LAST-MODIFIED:20250617T234039Z
UID:10000147-1750258800-1750267800@crossservices.org
SUMMARY:Circle of Excellence Awards 2025
DESCRIPTION:Celebrate Excellence at the Circle of Excellence Awards 2025! \nJoin us for the Circle of Excellence Awards 2025\, on Wednesday\, June 18th\, 2025\, from 3:00 PM – 5:30 PM —a signature I-94 West Chamber event! . \nEnjoy a late afternoon social reception with complimentary soft drinks\, small plate appetizers\, and beverages available for purchase as we recognize outstanding business and community contributions. \nEvent Schedule: \n\n\n3:00 PM: Registration & Networking + Visit Non-profit Tables \n\n\n3:45 PM: Awards Ceremony \n\n\n4:30 PM: Post-Awards Social \n\n\nAt the event\, you’ll also have the chance to: \n\nMeet great Chamber non-profits and learn how you can support your community\nHear about our scholarship awards winners\nCelebrate the funds raised at the First Responders event\n\nCome for the awards\, stay for the celebration! Let’s honor excellence in business and community impact. \nLEARN MORE
URL:https://crossservices.org/event/circle-of-excellence-awards-2025/
LOCATION:The Crown Room\, 20500 S Diamond Lake Rd\, Rogers\, Minnesota\, 55374
ATTACH;FMTTYPE=image/jpeg:https://crossservices.org/wp-content/uploads/2025/04/Circle-of-Excellence-Awards.jpg
END:VEVENT
END:VCALENDAR