BEGIN:VCALENDAR
VERSION:2.0
PRODID:-//CROSS Services Food Shelf | Rogers, MN - ECPv6.15.16.1//NONSGML v1.0//EN
CALSCALE:GREGORIAN
METHOD:PUBLISH
X-WR-CALNAME:CROSS Services Food Shelf | Rogers, MN
X-ORIGINAL-URL:https://crossservices.org
X-WR-CALDESC:Events for CROSS Services Food Shelf | Rogers, MN
REFRESH-INTERVAL;VALUE=DURATION:PT1H
X-Robots-Tag:noindex
X-PUBLISHED-TTL:PT1H
BEGIN:VTIMEZONE
TZID:UTC
BEGIN:STANDARD
TZOFFSETFROM:+0000
TZOFFSETTO:+0000
TZNAME:UTC
DTSTART:20230101T000000
END:STANDARD
END:VTIMEZONE
BEGIN:VEVENT
DTSTART;TZID=UTC:20251204T190000
DTEND;TZID=UTC:20251204T210000
DTSTAMP:20260423T155033
CREATED:20251028T172357Z
LAST-MODIFIED:20251028T174035Z
UID:10000167-1764874800-1764882000@crossservices.org
SUMMARY:DOUBLE Jackpot BINGO at the Legion
DESCRIPTION:A bigger and better Jackpot Bingo is here!\nJoin us for Jackpot Bingo at the Osseo-Maple Grove American Legion\, hosted by the Northwest Area Jaycees! \n🎉 Two $1\,000 Coveralls!\n\n\nDouble Action Coverall for $1\,000 and up to $400 consolation \n\n\n2 MUST GO $1\,000 Coverall with 50+ players \n\n\n💰 Up to $200 regular games💵 $35–$50 packages🧾 Paper and/or electronic games \nCome out for a great night of bingo\, refreshments\, and great food! \nAll proceeds benefit CROSS Services — please consider bringing shelf-stable food items to donate! \n🕖 Event starts at 7 PM🕕 Sales start at 6 PM \n 
URL:https://crossservices.org/event/jackpot-bingo-at-the-legion/
LOCATION:Osseo-Maple Grove American Legion Post #172\, 260 4th Ave SE\, Osseo\, MN\, 55369
ATTACH;FMTTYPE=image/jpeg:https://crossservices.org/wp-content/uploads/2025/10/2025-Website-event-Page-Images-1600-x-900px-19.jpg
ORGANIZER;CN="Osseo-Maple Grove American Legion Post #172":MAILTO:club172manager@comcast.net
END:VEVENT
BEGIN:VEVENT
DTSTART;TZID=UTC:20250605T190000
DTEND;TZID=UTC:20250605T220000
DTSTAMP:20260423T155033
CREATED:20250406T005149Z
LAST-MODIFIED:20250103T042900Z
UID:10000088-1749150000-1749160800@crossservices.org
SUMMARY:Jackpot BINGO at the Legion
DESCRIPTION:Join us for Jackpot Bingo with a MUST GO $1000 coverall at the Osseo-Maple Grove American Legion\, hosted by the Northwest Area Jaycees! \n\nDon’t miss a chance at the MUST GO $1\,000 coverall\nRegular games pay up to $200.\n$30 & $43 packages.\nPaper and electronic games.\n\nAll proceeds will benefit CROSS Services. Please consider bringing shelf-stable food items to donate as well! \nEvent start @ 7 PM.\nSales start @ 6 PM. \n 
URL:https://crossservices.org/event/jackpot-bingo-at-the-legion-june-2025/
LOCATION:Osseo-Maple Grove American Legion Post #172\, 260 4th Ave SE\, Osseo\, MN\, 55369
ATTACH;FMTTYPE=image/jpeg:https://crossservices.org/wp-content/uploads/2025/04/Jackpot-Bingo-for-CROSS-Services-June-2025.jpg
ORGANIZER;CN="Osseo-Maple Grove American Legion Post #172":MAILTO:club172manager@comcast.net
END:VEVENT
BEGIN:VEVENT
DTSTART;TZID=UTC:20250403T190000
DTEND;TZID=UTC:20250403T220000
DTSTAMP:20260423T155033
CREATED:20250102T185038Z
LAST-MODIFIED:20250115T010019Z
UID:10000135-1743706800-1743717600@crossservices.org
SUMMARY:Jackpot BINGO at the Legion
DESCRIPTION:Join us for Jackpot Bingo with a MUST GO $1000 BINGO coverall at the Osseo-Maple Grove American Legion\, hosted by the Northwest Area Jaycees! \n\nDon’t miss a chance at the MUST GO $1\,000 coverall\nRegular games pay up to $200.\n$30 & $43 packages.\nPaper and electronic games.\n\nAll proceeds will benefit CROSS Services. Please consider bringing shelf-stable food items to donate as well! \nEvent start @ 7 PM.\nSales start @ 6 PM \n 
URL:https://crossservices.org/event/jackpot-bingo-at-the-legion-2/
LOCATION:Osseo-Maple Grove American Legion Post #172\, 260 4th Ave SE\, Osseo\, MN\, 55369
ATTACH;FMTTYPE=image/jpeg:https://crossservices.org/wp-content/uploads/2025/01/Jackpot-Bingo-for-CROSS-Services-April-2025.jpg
ORGANIZER;CN="Osseo-Maple Grove American Legion Post #172":MAILTO:club172manager@comcast.net
END:VEVENT
BEGIN:VEVENT
DTSTART;TZID=UTC:20250206T190000
DTEND;TZID=UTC:20250206T220000
DTSTAMP:20260423T155033
CREATED:20241229T170021Z
LAST-MODIFIED:20250115T010141Z
UID:10000134-1738868400-1738879200@crossservices.org
SUMMARY:Jackpot BINGO at the Legion
DESCRIPTION:Join us for Jackpot Bingo with a MUST GO $1000 BINGO coverall at the Osseo-Maple Grove American Legion\, hosted by the Northwest Area Jaycees! \n\nDon’t miss a chance at the MUST GO $1\,000 coverall\nRegular games pay up to $200.\n$30 & $43 packages.\nPaper and electronic games.\n\nAll proceeds will benefit CROSS Services. Please consider bringing shelf-stable food items to donate as well! \nEvent start @ 7 PM.\nSales start @ 6 PM. \n 
URL:https://crossservices.org/event/jackpot-bingo-at-the-legion-feb-2025/
LOCATION:Osseo-Maple Grove American Legion Post #172\, 260 4th Ave SE\, Osseo\, MN\, 55369
ATTACH;FMTTYPE=image/jpeg:https://crossservices.org/wp-content/uploads/2024/12/Copy-of-2023-2024-Website-event-Page-Images-8.jpg
ORGANIZER;CN="Osseo-Maple Grove American Legion Post #172":MAILTO:club172manager@comcast.net
END:VEVENT
BEGIN:VEVENT
DTSTART;TZID=UTC:20241214T080000
DTEND;TZID=UTC:20241214T120000
DTSTAMP:20260423T155033
CREATED:20241112T043200Z
LAST-MODIFIED:20241126T041447Z
UID:10000127-1734163200-1734177600@crossservices.org
SUMMARY:Breakfast with Santa at the Osseo-Maple Grove Legion #172
DESCRIPTION:
URL:https://crossservices.org/event/breakfast-with-santa-osseo/
LOCATION:Osseo-Maple Grove American Legion Post #172\, 260 4th Ave SE\, Osseo\, MN\, 55369
ATTACH;FMTTYPE=image/jpeg:https://crossservices.org/wp-content/uploads/2024/11/breakfast-with-santa.jpg
ORGANIZER;CN="Osseo-Maple Grove American Legion Post #172":MAILTO:club172manager@comcast.net
END:VEVENT
BEGIN:VEVENT
DTSTART;TZID=UTC:20241003T190000
DTEND;TZID=UTC:20241003T220000
DTSTAMP:20260423T155033
CREATED:20240828T004221Z
LAST-MODIFIED:20240828T022905Z
UID:10000114-1727982000-1727992800@crossservices.org
SUMMARY:Jackpot BINGO at the Legion
DESCRIPTION:Join us for Jackpot Bingo with a MUST GO $1000 coverall at the Osseo-Maple Grove American Legion\, hosted by the Northwest Area Jaycees! \n\nDon’t miss a chance at the MUST GO $1\,000 coverall\nRegular games pay up to $200.\n$30 & $43 packages.\nPaper and electronic games.\n\nAll proceeds will benefit CROSS Services. Please consider bringing shelf-stable food items to donate as well! \nEvent start @ 7 PM.\nSales start @ 6 PM. \n 
URL:https://crossservices.org/event/jackpot-bingo-at-legion-oct-2024/
LOCATION:Osseo-Maple Grove American Legion Post #172\, 260 4th Ave SE\, Osseo\, MN\, 55369
ATTACH;FMTTYPE=image/jpeg:https://crossservices.org/wp-content/uploads/2024/08/OCT-LEGION.jpg
ORGANIZER;CN="Osseo-Maple Grove American Legion Post #172":MAILTO:club172manager@comcast.net
END:VEVENT
BEGIN:VEVENT
DTSTART;TZID=UTC:20240606T190000
DTEND;TZID=UTC:20240606T190000
DTSTAMP:20260423T155033
CREATED:20240426T195909Z
LAST-MODIFIED:20240529T005355Z
UID:10000102-1717700400-1717700400@crossservices.org
SUMMARY:Jackpot Bingo
DESCRIPTION:  \n \nJoin us on June 6 for Jackpot Bingo with a MUST GO $1000 coverall at the Osseo-Maple Grove American Legion! All proceeds will benefit CROSS Services. Please consider bringing shelf-stable food items to donate as well! \n  \nEvent start @ 7 PM.\nSales start @ 6 PM. \n 
URL:https://crossservices.org/event/jackpot-bingo-2/
LOCATION:Osseo-Maple Grove American Legion Post #172\, 260 4th Ave SE\, Osseo\, MN\, 55369
ATTACH;FMTTYPE=image/png:https://crossservices.org/wp-content/uploads/2024/04/Jackpot-Bingo-2.png
ORGANIZER;CN="Osseo-Maple Grove American Legion Post #172":MAILTO:club172manager@comcast.net
END:VEVENT
BEGIN:VEVENT
DTSTART;TZID=UTC:20240421T173000
DTEND;TZID=UTC:20240421T203000
DTSTAMP:20260423T155033
CREATED:20240417T013331Z
LAST-MODIFIED:20240417T013331Z
UID:10000100-1713720600-1713731400@crossservices.org
SUMMARY:Steak and Shrimp Dinner for Childhood Cancer
DESCRIPTION:Sunday\, April 21\, 2024\nSupport Maple Grove Lions Childhood Cancer Fundraiser!!\nYou are Invited to Join the Maple Grove Lions for Steak and Shrimp Dinner\nHosted at the Osseo America Legion for our Steak and Shrimp Dinner Fundraiser to benefit the Minnesota Lion Childhood Cancer Fund. \nChoose from Steak\, Fish or Shrimp dinner for $12\nOr Steak and Shrimp dinner for $14\nDinner comes with baked potato\, coleslaw\, and garlic toast. \nDetails \n\nServing from 5:30 pm to 8:30 pm.\nEnter $5 raffle for 42in TV\nNothing Bundt Cakes will be offered for sale\nPlease bring canned and shelf-stable food items to donate to CROSS Services
URL:https://crossservices.org/event/steak-and-shrimp-dinner-for-childhood-cancer/
LOCATION:Osseo-Maple Grove American Legion Post #172\, 260 4th Ave SE\, Osseo\, MN\, 55369
ATTACH;FMTTYPE=image/png:https://crossservices.org/wp-content/uploads/2024/04/Maple-Grove-Lions-Steak-Shrimp-Dinner-2.png
END:VEVENT
END:VCALENDAR