BEGIN:VCALENDAR
VERSION:2.0
PRODID:-//CROSS Services Food Shelf | Rogers, MN - ECPv6.15.16.1//NONSGML v1.0//EN
CALSCALE:GREGORIAN
METHOD:PUBLISH
X-WR-CALNAME:CROSS Services Food Shelf | Rogers, MN
X-ORIGINAL-URL:https://crossservices.org
X-WR-CALDESC:Events for CROSS Services Food Shelf | Rogers, MN
REFRESH-INTERVAL;VALUE=DURATION:PT1H
X-Robots-Tag:noindex
X-PUBLISHED-TTL:PT1H
BEGIN:VTIMEZONE
TZID:UTC
BEGIN:STANDARD
TZOFFSETFROM:+0000
TZOFFSETTO:+0000
TZNAME:UTC
DTSTART:20240101T000000
END:STANDARD
END:VTIMEZONE
BEGIN:VEVENT
DTSTART;TZID=UTC:20250201T180000
DTEND;TZID=UTC:20250201T220000
DTSTAMP:20260423T215320
CREATED:20250114T014646Z
LAST-MODIFIED:20250115T010108Z
UID:10000138-1738432800-1738447200@crossservices.org
SUMMARY:Rogers School of Music Talent Showcase
DESCRIPTION:Nordic Brewpub is once again hosting the Rogers School of Music Talent Showcase on Feb 1st starting at 6 PM. Come see the next generation of performers and finish the night with the high energy horn band Dysfunktional. Entrance is free with a non-perishable donation to CROSS Food shelf.  \n  \nLearn more on their Facebook Event Page
URL:https://crossservices.org/event/rogers-school-of-music-talent-showcase/
LOCATION:Nordic BrewPub\, 530 Cedar St\, Monticello\, MN\, 55362
ATTACH;FMTTYPE=image/jpeg:https://crossservices.org/wp-content/uploads/2025/01/Talent-Showcase.jpg
END:VEVENT
END:VCALENDAR