BEGIN:VCALENDAR
VERSION:2.0
PRODID:-//CROSS Services Food Shelf | Rogers, MN - ECPv6.15.16.1//NONSGML v1.0//EN
CALSCALE:GREGORIAN
METHOD:PUBLISH
X-WR-CALNAME:CROSS Services Food Shelf | Rogers, MN
X-ORIGINAL-URL:https://crossservices.org
X-WR-CALDESC:Events for CROSS Services Food Shelf | Rogers, MN
REFRESH-INTERVAL;VALUE=DURATION:PT1H
X-Robots-Tag:noindex
X-PUBLISHED-TTL:PT1H
BEGIN:VTIMEZONE
TZID:UTC
BEGIN:STANDARD
TZOFFSETFROM:+0000
TZOFFSETTO:+0000
TZNAME:UTC
DTSTART:20230101T000000
END:STANDARD
END:VTIMEZONE
BEGIN:VEVENT
DTSTART;TZID=UTC:20241214T100000
DTEND;TZID=UTC:20241214T130000
DTSTAMP:20260423T215441
CREATED:20241113T015247Z
LAST-MODIFIED:20241115T011821Z
UID:10000129-1734170400-1734181200@crossservices.org
SUMMARY:Deck the Hulls
DESCRIPTION:Join us for a festive day of holiday cheer at MarineMax as we Deck the Hulls!  \nWhen: December 14th\, 2024\, from 10 AM to 1 PM \nWhere: MarineMax Rogers \nWhat to expect:  \n  \n\nSanta Claus: Bring your little ones to meet the jolly old man himself!\nFestive Decorations: Admire our boats adorned with holiday lights and decorations.\nSpecial Offers: Enjoy exclusive discounts on boats & accessories\nMusic: Listen to holiday tunes.\n\nDon’t miss out on this fun-filled family event! \nREGISTER HERE
URL:https://crossservices.org/event/deck-the-hulls/
LOCATION:MarineMax Rogers\, 20300 County Rd 81\, Rogers\, MN\, 55374
ATTACH;FMTTYPE=image/jpeg:https://crossservices.org/wp-content/uploads/2024/11/marine-max-2.jpg
END:VEVENT
END:VCALENDAR