BEGIN:VCALENDAR
VERSION:2.0
PRODID:-//CROSS Services Food Shelf | Rogers, MN - ECPv6.15.16.1//NONSGML v1.0//EN
CALSCALE:GREGORIAN
METHOD:PUBLISH
X-WR-CALNAME:CROSS Services Food Shelf | Rogers, MN
X-ORIGINAL-URL:https://crossservices.org
X-WR-CALDESC:Events for CROSS Services Food Shelf | Rogers, MN
REFRESH-INTERVAL;VALUE=DURATION:PT1H
X-Robots-Tag:noindex
X-PUBLISHED-TTL:PT1H
BEGIN:VTIMEZONE
TZID:UTC
BEGIN:STANDARD
TZOFFSETFROM:+0000
TZOFFSETTO:+0000
TZNAME:UTC
DTSTART:20230101T000000
END:STANDARD
END:VTIMEZONE
BEGIN:VEVENT
DTSTART;TZID=UTC:20241114T090000
DTEND;TZID=UTC:20241114T200000
DTSTAMP:20260423T184634
CREATED:20241031T205913Z
LAST-MODIFIED:20241031T234543Z
UID:10000121-1731574800-1731614400@crossservices.org
SUMMARY:Kalla Lily Salon & Spa Holiday Open House & Food Drive
DESCRIPTION:Join us on November 14th at Kalla Lily Salon & Spa! Come enjoy breakfast bites from Daily Dose in the morning\, appetizers from Pints & Paddle in the evening\, plus hourly giveaways and 25% off everything (except gift sets) all day! Product reps from Kerastase\, Eminence\, and Aveda will be here to answer questions. \nThis holiday season Kalla Lily is partnering with Cross Services to support local families! Bring Toys and Gift Cards for families in need so they too can experience the joy of the holiday season.
URL:https://crossservices.org/event/kalla-lily-salon-spa-holiday-open-house-food-drive/
LOCATION:Kalla Lily Salon & Spa\, 9851 Maple Grove Pkwy North\, Maple Grove\, Minnesota\, 55369
ATTACH;FMTTYPE=image/png:https://crossservices.org/wp-content/uploads/2024/10/Kalla-Lily-Holiday-open-house-1.png
END:VEVENT
END:VCALENDAR