BEGIN:VCALENDAR
VERSION:2.0
PRODID:-//CROSS Services Food Shelf | Rogers, MN - ECPv6.15.16.1//NONSGML v1.0//EN
CALSCALE:GREGORIAN
METHOD:PUBLISH
X-WR-CALNAME:CROSS Services Food Shelf | Rogers, MN
X-ORIGINAL-URL:https://crossservices.org
X-WR-CALDESC:Events for CROSS Services Food Shelf | Rogers, MN
REFRESH-INTERVAL;VALUE=DURATION:PT1H
X-Robots-Tag:noindex
X-PUBLISHED-TTL:PT1H
BEGIN:VTIMEZONE
TZID:UTC
BEGIN:STANDARD
TZOFFSETFROM:+0000
TZOFFSETTO:+0000
TZNAME:UTC
DTSTART:20220101T000000
END:STANDARD
END:VTIMEZONE
BEGIN:VEVENT
DTSTART;VALUE=DATE:20231101
DTEND;VALUE=DATE:20231211
DTSTAMP:20260424T072254
CREATED:20231114T055702Z
LAST-MODIFIED:20231121T021221Z
UID:10000075-1698796800-1702252799@crossservices.org
SUMMARY:Frankie's Pizza Annual Toy Drive
DESCRIPTION:Join Frankie’s Chicago Style Pizza for their annual holiday Toy Drive benefiting CROSS Services. \nWhen you donate 1 or more packages toys you will receive a $5 gift certificate or a FREE Quick Bite. \nLearn more here.
URL:https://crossservices.org/event/frankies-pizza-annual-toy-drive/
LOCATION:Frankie’s Chicago Style Pizza\, 13724 83rd Way N\, Maple Grove\, MN\, 55369
ATTACH;FMTTYPE=image/png:https://crossservices.org/wp-content/uploads/2023/11/Website-event-Page-Images-4.png
END:VEVENT
END:VCALENDAR