BEGIN:VCALENDAR
VERSION:2.0
PRODID:-//CROSS Services Food Shelf | Rogers, MN - ECPv6.15.16.1//NONSGML v1.0//EN
CALSCALE:GREGORIAN
METHOD:PUBLISH
X-ORIGINAL-URL:https://crossservices.org
X-WR-CALDESC:Events for CROSS Services Food Shelf | Rogers, MN
REFRESH-INTERVAL;VALUE=DURATION:PT1H
X-Robots-Tag:noindex
X-PUBLISHED-TTL:PT1H
BEGIN:VTIMEZONE
TZID:UTC
BEGIN:STANDARD
TZOFFSETFROM:+0000
TZOFFSETTO:+0000
TZNAME:UTC
DTSTART:20230101T000000
END:STANDARD
END:VTIMEZONE
BEGIN:VEVENT
DTSTART;VALUE=DATE:20260301
DTEND;VALUE=DATE:20260407
DTSTAMP:20260423T141455
CREATED:20260225T202953Z
LAST-MODIFIED:20260225T202953Z
UID:10000176-1772323200-1775519999@crossservices.org
SUMMARY:2026 Minnesota FoodShare March Campaign
DESCRIPTION:Multiply Your Impact. Strengthen Our Community.\nFor more than 40 years\, the Minnesota FoodShare March Campaign has united communities across the state to fight hunger. Today\, it is the largest grassroots food and fund drive in Minnesota\, and CROSS Services proudly participates alongside food shelves statewide. \nMarch 1 – April 6\, CROSS Services joins this annual effort\, led by the Greater Minneapolis Council of Churches (GMCC)\, to strengthen support for local families facing food insecurity. \n\nWhy Your Gift in March Matters\nGiving during the March Campaign does more than support food access today — it strengthens the safety net for neighbors navigating difficult seasons. \nYour gift: \n\n\nSupports CROSS Services’ work locally\, helping individuals and families access food and build stability \n\n\nCounts toward our total in the statewide Minnesota FoodShare campaign \n\n\nIncreases the funding we receive back through the Minnesota FoodShare FoodFund \n\n\nHow the FoodFund Multiplies Impact\nThe FoodFund was created to strengthen food shelves by redistributing dollars based on what each community raises and the number of individuals served. \nWhen our community gives generously\, it unlocks additional funding that comes back to CROSS Services. \nThat means your March gift doesn’t just help once — it helps twice. It feeds families today and strengthens our ability to serve tomorrow. \nWhy Now\nCROSS Services continues to serve families navigating rising food costs and ongoing economic pressure. March is one of the most important times of year to give\, allowing us to maximize our participation in the Minnesota FoodShare campaign and strengthen support for the months ahead. \nEvery dollar donated: \n\n\nStays local at CROSS Services \n\n\nHelps us purchase food at wholesale prices\, stretching your gift further \n\n\nIncreases the funding we receive through the FoodFund \n\n\nGifts made now through April 6 count toward our March Campaign total. \nMake Your March Gift\nNow through April 6\, every gift to CROSS Services counts toward our Minnesota FoodShare March Campaign total — amplifying the impact of your generosity locally and statewide. \nGive in the way that works best for you. Every dollar stays local\, stretches further\, and strengthens the funding we receive through the FoodFund. \nThis campaign isn’t just about raising food and funds — it’s about multiplying impact. \nWhen you give during the March Campaign\, you help feed families today and strengthen our ability to serve tomorrow.
URL:https://crossservices.org/event/minnesota-foodshare-matching-campaign-2026-2/
LOCATION:CROSS Services\, 12915 Weinand Circle\, Rogers\, MN\, 55374\, United States
ATTACH;FMTTYPE=image/jpeg:https://crossservices.org/wp-content/uploads/2026/02/march-mn-foodshare-campaign-cross.jpg
END:VEVENT
BEGIN:VEVENT
DTSTART;VALUE=DATE:20250701
DTEND;VALUE=DATE:20250801
DTSTAMP:20260423T141455
CREATED:20250704T182544Z
LAST-MODIFIED:20250704T183155Z
UID:10000154-1751328000-1754006399@crossservices.org
SUMMARY:CROSS Services' Backpack Drive
DESCRIPTION:1 in 3 local students need help getting the school supplies they need.\n\nJoin CROSS Services to provide backpacks filled with school supplies for local families in need. \n\nGOAL: 1\,000 filled backpacks \nClick here for the list of supplies or shop our Amazon Lists online by clicking the links below: \n\nElementary (Grades: K-5)\nSecondary (Grades: 6-12)\n\nSimply “add all” to cart\, check out\, and your filled backpack will be delivered directly to CROSS Services to help families in need. \n  \nIf you are shopping in person and dropping them off at CROSS Services\, please label the top loop of the backpack “Elementary” or “Secondary” and drop off backpacks by July 31. \n  \nDrop Off Hours: \n\nMonday\, Wednesday-Friday: 8am – 2pm \nTuesdays: 8am – 7pm\n\nTogether\, we can send children back to school prepared and confident!
URL:https://crossservices.org/event/backpack-drive/
LOCATION:CROSS Services\, 12915 Weinand Circle\, Rogers\, MN\, 55374\, United States
ATTACH;FMTTYPE=image/jpeg:https://crossservices.org/wp-content/uploads/2025/07/2025-Website-event-Page-Images-14.jpg
END:VEVENT
BEGIN:VEVENT
DTSTART;VALUE=DATE:20250501
DTEND;VALUE=DATE:20250601
DTSTAMP:20260423T141455
CREATED:20250409T002108Z
LAST-MODIFIED:20250421T204716Z
UID:10000090-1746057600-1748735999@crossservices.org
SUMMARY:Twin Cities' Diaper Drive
DESCRIPTION:Help CROSS Services Support Local Families – Host a Diaper Drive this May! \nThis May\, CROSS Services is partnering with KTIS as part of a Twin Cities-wide Diaper Drive—and we’re inviting YOU to get involved by hosting your own diaper drive on our behalf! \nWhether you’re a local business\, faith community\, school group\, or family\, hosting a diaper drive is a powerful way to support parents and caregivers right here in our community. All diapers collected will go directly to CROSS Services clients in the local areas we serve. \n📅 When: Now through May 31\n🎯 Goal: Collect 13\,000 diapers to help keep babies and toddlers in our community clean\, dry\, and healthy.📍 Drop Off: CROSS Services – PO Box 574\, 12915 Weinand Circle\, Rogers\, MN 55374🛒 Shop our Amazon Wish List: https://a.co/d2Jt6qk \nDiaper need is real—1 in 2 families struggle to afford enough diapers. Your support ensures parents don’t have to choose between diapers and other essentials. \nInterested in hosting a drive or learning more? Contact Molly Smieja about hosting a drive and we’ll provide everything you need to get started—collection bin signage\, social media tools\, and more. \nTogether\, we can make a big impact for little ones. 💙🍼
URL:https://crossservices.org/event/diaper-drive-2025/
LOCATION:CROSS Services\, 12915 Weinand Circle\, Rogers\, MN\, 55374\, United States
ATTACH;FMTTYPE=image/jpeg:https://crossservices.org/wp-content/uploads/2025/04/Diaper-Drive-2.jpg
END:VEVENT
BEGIN:VEVENT
DTSTART;TZID=UTC:20250301T100000
DTEND;TZID=UTC:20250301T120000
DTSTAMP:20260423T141455
CREATED:20250206T022250Z
LAST-MODIFIED:20250222T011403Z
UID:10000143-1740823200-1740830400@crossservices.org
SUMMARY:Drive Thru Food Drive at CROSS Services
DESCRIPTION:WHEN: Saturday\, March 1 from 10:00 am – 12:00 pm \nWHERE: CROSS Services – At the double doors at the back of the building \nWHAT: Volunteers from River Valley Church will be on site to collect food donations to CROSS Services and the local individuals and families it supports. \nA portion of all donations will be matched by our March partnership with GMCC’s Minnesota FoodShare Campaign\, making your impact go even further and help more families in need! \nCONTACT: Pat Schwalbe\, Pat@CROSSservices.org or call 763-425-1050 ext. 106 for more details! \n\nThank you for supporting CROSS Services’ families! \n\nDownload the event flyer with the list of “Most Needed Groceries”. Shop groceries through Amazon.
URL:https://crossservices.org/event/drive-through-food-drive-at-cross-services/
LOCATION:CROSS Services\, 12915 Weinand Circle\, Rogers\, MN\, 55374\, United States
ATTACH;FMTTYPE=image/jpeg:https://crossservices.org/wp-content/uploads/2025/02/2025-Website-event-Page-Images-23.jpg
END:VEVENT
BEGIN:VEVENT
DTSTART;VALUE=DATE:20240701
DTEND;VALUE=DATE:20240801
DTSTAMP:20260423T141455
CREATED:20240515T015146Z
LAST-MODIFIED:20240611T021126Z
UID:10000106-1719792000-1722470399@crossservices.org
SUMMARY:Fill A Backpack - School Supply Drive
DESCRIPTION:Join us in providing 1\,200 local children with a backpack full of the supplies they need for the start of school!\nCROSS Services will be collecting filled backpacks for local elementary and secondary school children. Backpacks will be distributed starting in August. \nDROP OFF AT CROSS SERVICES IN JULY\, MON-FRI\n12915 Weinand Cir.\, Rogers\, MN 55374 \nPlease label backpacks on the top loop as to whether it’s an elementary school or secondary school backpack. \nClick to download the full list of supplies \nShop for Supplies\nShop for elementary school supplies – Simply click “Add all to Cart” and check out. Your Backpack and supplies will be sent directly to CROSS Services and handed out to a child in need in the local communities. \nShop for 6-12th grade school supplies – Simply click “Add all to Cart” and check out. Your Backpack and supplies will be sent directly to CROSS Services and handed out to a child in need in the local communities.
URL:https://crossservices.org/event/fill-a-backpack-school-supply-drive/
LOCATION:CROSS Services\, 12915 Weinand Circle\, Rogers\, MN\, 55374\, United States
ATTACH;FMTTYPE=image/png:https://crossservices.org/wp-content/uploads/2024/05/2023-2024-Website-event-Page-Images-3.png
END:VEVENT
BEGIN:VEVENT
DTSTART;VALUE=DATE:20240501
DTEND;VALUE=DATE:20240601
DTSTAMP:20260423T141455
CREATED:20240402T023529Z
LAST-MODIFIED:20240506T234659Z
UID:10000045-1714521600-1717199999@crossservices.org
SUMMARY:May is World's Largest Diaper Drive Month
DESCRIPTION:Every single day tens of thousands of mothers have to use (and re-use) diapers because they can’t afford to purchase enough diapers to keep their child clean\, dry\, and healthy. It’s a sad fact that one in three families need help to diaper their babies. CROSS Services has joined diaper banks and organizations from across Ohio\, California\, Georgia\, Florida\, Illinois\, Iowa\, Maryland\, Minnesota\, New York\, Tennessee\, Texas\, and Washington to do something about that by collecting 2 Million diapers in one month to help those most in need. \nJoin us as we set out on a historic journey to make life a little easier for moms and their babies in our local communities.  \nDiapers can be dropped off or shipped directly to CROSS Services at PO Box 574\, 12915 Weinand Circle\, Rogers\, MN 55374 \nShop our Amazon List
URL:https://crossservices.org/event/may-is-worlds-largest-diaper-drive-month/
LOCATION:CROSS Services\, 12915 Weinand Circle\, Rogers\, MN\, 55374\, United States
ATTACH;FMTTYPE=image/png:https://crossservices.org/wp-content/uploads/2024/04/Worlds-largest-diaper-drive-2.png
END:VEVENT
BEGIN:VEVENT
DTSTART;VALUE=DATE:20240226
DTEND;VALUE=DATE:20240407
DTSTAMP:20260423T141455
CREATED:20240201T054209Z
LAST-MODIFIED:20240227T031300Z
UID:10000032-1708905600-1712447999@crossservices.org
SUMMARY:Boost Your Impact! Feb 26 - April 6
DESCRIPTION:Donate to CROSS Services between February 26 – April 6\, 2024 to boost your donation! MN FoodShare will match a portion of both food and financial donations given to CROSS Service during this campaign. \nOur goal for 2024 is to raise $100\,000 in financial donations and 100\,000 lbs of food. You can help us reach this goal and feed many of our neighbors in need! \nWays to Contribute: \n\nHost a Food Drive with your book club\, faith community\, neighborhood\, etc.\nHost a Fundraiser with your workplace. Don’t forget to ask your HR team if they have a matching gifts program!\nFood Donations can be made anytime at CROSS Services\, or at one of our Fill the Truck events!\n\nMarch 3rd from 1-5pm at Cub Foods in Maple Grove\nMarch 23rd at the Maple Grove Fire Station\n\n\n\nFinancial Donations can be made online by clicking HERE or mailed to CROSS Services at PO Box 574\, 12915 WEINAND CIR\, ROGERS\, MN 55374\n\nThe Minnesota FoodShare Campaign is the largest grassroots food and fund drive in the state. It brings together organizations\, businesses\, faith communities\, and individuals to help stock and support the capacity of nearly 300 food shelves. Be part of the movement!\n 
URL:https://crossservices.org/event/boost-your-impact-feb-26-april-6/
LOCATION:CROSS Services\, 12915 Weinand Circle\, Rogers\, MN\, 55374\, United States
ATTACH;FMTTYPE=image/png:https://crossservices.org/wp-content/uploads/2024/01/2024-MN-FoodShare-Feb.-26-April-6-1600-x-900-px-3.png
END:VEVENT
END:VCALENDAR