BEGIN:VCALENDAR
VERSION:2.0
PRODID:-//CROSS Services Food Shelf | Rogers, MN - ECPv6.15.16.1//NONSGML v1.0//EN
CALSCALE:GREGORIAN
METHOD:PUBLISH
X-WR-CALNAME:CROSS Services Food Shelf | Rogers, MN
X-ORIGINAL-URL:https://crossservices.org
X-WR-CALDESC:Events for CROSS Services Food Shelf | Rogers, MN
REFRESH-INTERVAL;VALUE=DURATION:PT1H
X-Robots-Tag:noindex
X-PUBLISHED-TTL:PT1H
BEGIN:VTIMEZONE
TZID:UTC
BEGIN:STANDARD
TZOFFSETFROM:+0000
TZOFFSETTO:+0000
TZNAME:UTC
DTSTART:20230101T000000
END:STANDARD
END:VTIMEZONE
BEGIN:VEVENT
DTSTART;VALUE=DATE:20251120
DTEND;VALUE=DATE:20260105
DTSTAMP:20260423T154702
CREATED:20251125T174249Z
LAST-MODIFIED:20251125T211820Z
UID:10000172-1763596800-1767571199@crossservices.org
SUMMARY:GLOW Holiday Festival 2025
DESCRIPTION:GLOW Holiday Festival is Minnesota’s brightest holiday light experience and must-see wintertime attraction at CHS Field\, home of the St. Paul Saints in Downtown St. Paul. Featuring over a million lights\, the Enchanted Forest\, Vixen’s Zip Line\, and Giant Slide\, GLOW is a must-see experience. The elves have been busy gussying up the place with new exhibits to make sure your holidays are shiny & bright. \nGLOW Holiday Festival is a proud supporter of local charities! $1.00 from every ticket sold is donated to non-profits. CROSS Services is honored to be part of that donation! PLUS\, when you use the access code “KINDNESS25”\, you’ll receive 20% off the ticket price! \nVisit glowholiday.com to purchase your tickets! \n  \nTo receive a 20% discount on tickets follow the directions below: \n  \n 
URL:https://crossservices.org/event/glow-holiday-festival-2025/
LOCATION:CHS Field\, 360 N. Broadway St.\, St. Paul\, MN\, 55101
ATTACH;FMTTYPE=image/jpeg:https://crossservices.org/wp-content/uploads/2025/11/2025-Website-event-Page-Images-1600-x-900px-40.jpg
ORGANIZER;CN="GLOW":MAILTO:tickets@glowholiday.com
END:VEVENT
BEGIN:VEVENT
DTSTART;VALUE=DATE:20241121
DTEND;VALUE=DATE:20250106
DTSTAMP:20260423T154702
CREATED:20241119T024249Z
LAST-MODIFIED:20241119T223022Z
UID:10000132-1732147200-1736121599@crossservices.org
SUMMARY:GLOW Holiday Festival
DESCRIPTION:GLOW Holiday Festival is Minnesota’s brightest holiday light experience and must-see wintertime attraction at CHS Field\, home of the St. Paul Saints in Downtown St. Paul. GLOW is a holiday show for all featuring over a million holiday lights\, illuminated trees\, larger than life animals and art installations\, a featured light spectacle\, plus multiple concession areas! Each night of GLOW benefits a community charity working to better our world during the season of giving. \nGLOW Holiday Festival is a proud supporter of local charities! When you use Access Code “GIVING24” $1.00 of your ticket will be donated to CROSS Services AND you will receive special pricing (over 10% off!) WIN-WIN! \nPlease visit glowholiday.com/info for information and frequently asked questions. \n  \nFollow the instructions below and attached screen shots on how to get the 10% off discount with the charity access code “GIVING24” \n\nTO  PURCHASE TICKETS FOLLOW THE BELOW LISTED INSTRUCTIONS; \n\n\nGo to glowholiday.com  or navigate to the tickets page from glowholiday.com\nClick Buy Tickets and then Find Tickets on your selected date.  Tickets can only be used on the date selected.  In the Access Code box  in upper right corner\, enter the code “GIVING24” and click on the  right facing arrow next to the box to activate the code.  The discount is  just over a 10% discount putting adult tickets at $19.50 and child tickets at $11.25.\nOnce activated the code will unlock 2 extra options under each ticket time slot.  1 titled Charity Adult GA and 1 titled Charity Child (3-12) GA.\nContinue with your purchase as normal selecting the number of tickets that you desire using the two listed Charity ticket options.\nScroll to the bottom of the page\, click CHECKOUT\, and continue by entering your personal information and payment details.
URL:https://crossservices.org/event/glow-holiday-festival-2024/
LOCATION:CHS Field\, 360 N. Broadway St.\, St. Paul\, MN\, 55101
ATTACH;FMTTYPE=image/jpeg:https://crossservices.org/wp-content/uploads/2024/11/2023-2024-Website-event-Page-Images-11.jpg
ORGANIZER;CN="GLOW":MAILTO:tickets@glowholiday.com
END:VEVENT
END:VCALENDAR