BEGIN:VCALENDAR
VERSION:2.0
PRODID:-//CROSS Services Food Shelf | Rogers, MN - ECPv6.15.16.1//NONSGML v1.0//EN
CALSCALE:GREGORIAN
METHOD:PUBLISH
X-WR-CALNAME:CROSS Services Food Shelf | Rogers, MN
X-ORIGINAL-URL:https://crossservices.org
X-WR-CALDESC:Events for CROSS Services Food Shelf | Rogers, MN
REFRESH-INTERVAL;VALUE=DURATION:PT1H
X-Robots-Tag:noindex
X-PUBLISHED-TTL:PT1H
BEGIN:VTIMEZONE
TZID:UTC
BEGIN:STANDARD
TZOFFSETFROM:+0000
TZOFFSETTO:+0000
TZNAME:UTC
DTSTART:20240101T000000
END:STANDARD
END:VTIMEZONE
BEGIN:VEVENT
DTSTART;TZID=UTC:20250805T110000
DTEND;TZID=UTC:20250805T130000
DTSTAMP:20260423T170742
CREATED:20250724T010413Z
LAST-MODIFIED:20250805T155457Z
UID:10000157-1754391600-1754398800@crossservices.org
SUMMARY:National Night Out with Maple Grove Police
DESCRIPTION:National Night Out Kickoff EventDate: Tuesday\, August 5\, 2025Time: 11 a.m. – 1 p.m.Location: Central Park – 12000 Central Park Way N\, Maple Grove \nCROSS Services is proud to participate in the National Night Out Kickoff\, hosted by the Maple Grove Police Department. \n\nEnjoy free lunch\, family fun\, and hands-on activities for all ages—including fire truck tours\, police squad cars\, face painting\, balloon art\, and even a helicopter fly-in.\nMeet first responders from the Hennepin County Sheriff’s Office\, Minnesota State Patrol\, DNR\, and more. Test your aim at the dunk tank\, ask questions\, and learn about community safety.\nHelp support local families by bringing donations of food and school supplies to benefit CROSS Services.\n\nWe hope to see you there! \n\n\n\nDownload the Flyer \n 
URL:https://crossservices.org/event/national-night-out-with-maple-grove-police/
LOCATION:Central Park\, Central Park 12000 Central Park Way\, Maple Grove\, Minnesota\, 55369
ATTACH;FMTTYPE=image/jpeg:https://crossservices.org/wp-content/uploads/2025/07/National-Night-Out-header.jpg
END:VEVENT
END:VCALENDAR