BEGIN:VCALENDAR
VERSION:2.0
PRODID:-//CROSS Services Food Shelf | Rogers, MN - ECPv6.15.16.1//NONSGML v1.0//EN
CALSCALE:GREGORIAN
METHOD:PUBLISH
X-ORIGINAL-URL:https://crossservices.org
X-WR-CALDESC:Events for CROSS Services Food Shelf | Rogers, MN
REFRESH-INTERVAL;VALUE=DURATION:PT1H
X-Robots-Tag:noindex
X-PUBLISHED-TTL:PT1H
BEGIN:VTIMEZONE
TZID:UTC
BEGIN:STANDARD
TZOFFSETFROM:+0000
TZOFFSETTO:+0000
TZNAME:UTC
DTSTART:20220101T000000
END:STANDARD
END:VTIMEZONE
BEGIN:VEVENT
DTSTART;TZID=UTC:20241214T170000
DTEND;TZID=UTC:20241214T200000
DTSTAMP:20260423T215441
CREATED:20241112T041834Z
LAST-MODIFIED:20241112T042257Z
UID:10000126-1734195600-1734206400@crossservices.org
SUMMARY:Santa at the Loop
DESCRIPTION:(Formerly Skate with Santa) Welcome Santa & Mrs. Claus from the North Pole for a free evening of skating and holiday music at Central Park! Enjoy the Maple Grove Rotary holiday light display ceremony\, and don’t forget your camera for fun photos with Santa! Skate rentals are available for $7.50 a pair. \nPlease bring Toy and Food donations to lift up those in need! \n  \nEvent Details:\nAges: All Ages\nPrice: Free\nLocation: 12000 Central Park Way\, Maple Grove\, 55369
URL:https://crossservices.org/event/santa-at-the-loop/
LOCATION:Central Park Ice Skating Loop\, 12000 Central Parkway\, Maple Grove\, MN\, 55369
ATTACH;FMTTYPE=image/png:https://crossservices.org/wp-content/uploads/2024/11/Santa-at-the-loop-resized.png
END:VEVENT
BEGIN:VEVENT
DTSTART;TZID=UTC:20231209T170000
DTEND;TZID=UTC:20231209T200000
DTSTAMP:20260423T215441
CREATED:20231129T034613Z
LAST-MODIFIED:20231201T025628Z
UID:10000085-1702141200-1702152000@crossservices.org
SUMMARY:Skate with Santa
DESCRIPTION:Join Santa as he visits from the North Pole for a free evening of skating and holiday music at Central Park! Also\, enjoy the ceremony showcasing the Maple Grove Rotary holiday light display. Bring your own skates or skate rentals are available for $7.50 a pair.  Don’t forget a cameral for fun photos with Santa! \nWe will also be collecting donations for CROSS Services\, and encourage all that are able to bring non-perishable food items. \n 
URL:https://crossservices.org/event/skate-with-santa/
LOCATION:Central Park Ice Skating Loop\, 12000 Central Parkway\, Maple Grove\, MN\, 55369
ATTACH;FMTTYPE=image/png:https://crossservices.org/wp-content/uploads/2023/11/Skate-with-Santa-2.png
END:VEVENT
END:VCALENDAR