BEGIN:VCALENDAR
VERSION:2.0
PRODID:-//CROSS Services Food Shelf | Rogers, MN - ECPv6.15.16.1//NONSGML v1.0//EN
CALSCALE:GREGORIAN
METHOD:PUBLISH
X-ORIGINAL-URL:https://crossservices.org
X-WR-CALDESC:Events for CROSS Services Food Shelf | Rogers, MN
REFRESH-INTERVAL;VALUE=DURATION:PT1H
X-Robots-Tag:noindex
X-PUBLISHED-TTL:PT1H
BEGIN:VTIMEZONE
TZID:UTC
BEGIN:STANDARD
TZOFFSETFROM:+0000
TZOFFSETTO:+0000
TZNAME:UTC
DTSTART:20230101T000000
END:STANDARD
END:VTIMEZONE
BEGIN:VEVENT
DTSTART;VALUE=DATE:20240411
DTEND;VALUE=DATE:20240415
DTSTAMP:20260423T202402
CREATED:20240412T013732Z
LAST-MODIFIED:20240412T015243Z
UID:10000098-1712793600-1713139199@crossservices.org
SUMMARY:2024 Minnesota Yarn Shop Hop
DESCRIPTION:Calling all knitters\, crocheters\, weavers\, and yarn enthusiasts!\nJoin Amazing Threads and 11 other yarn shop vendors for the 2024 Minnesota Yarn Shop Hop to support local food shelves. \n\nAmazing Threads has chosen CROSS Services as their beneficiary.
URL:https://crossservices.org/event/2024-minnesota-yarn-shop-hop/
LOCATION:amazing threads\, 11262 86th Ave N\, Maple Grove\, MN\, 55369
ATTACH;FMTTYPE=image/png:https://crossservices.org/wp-content/uploads/2024/04/Jack-and-the-Beanstalk.png
END:VEVENT
END:VCALENDAR