BEGIN:VCALENDAR
VERSION:2.0
PRODID:-//CROSS Services Food Shelf | Rogers, MN - ECPv6.15.16.1//NONSGML v1.0//EN
CALSCALE:GREGORIAN
METHOD:PUBLISH
X-WR-CALNAME:CROSS Services Food Shelf | Rogers, MN
X-ORIGINAL-URL:https://crossservices.org
X-WR-CALDESC:Events for CROSS Services Food Shelf | Rogers, MN
REFRESH-INTERVAL;VALUE=DURATION:PT1H
X-Robots-Tag:noindex
X-PUBLISHED-TTL:PT1H
BEGIN:VTIMEZONE
TZID:America/Chicago
BEGIN:DAYLIGHT
TZOFFSETFROM:-0600
TZOFFSETTO:-0500
TZNAME:CDT
DTSTART:20240310T080000
END:DAYLIGHT
BEGIN:STANDARD
TZOFFSETFROM:-0500
TZOFFSETTO:-0600
TZNAME:CST
DTSTART:20241103T070000
END:STANDARD
BEGIN:DAYLIGHT
TZOFFSETFROM:-0600
TZOFFSETTO:-0500
TZNAME:CDT
DTSTART:20250309T080000
END:DAYLIGHT
BEGIN:STANDARD
TZOFFSETFROM:-0500
TZOFFSETTO:-0600
TZNAME:CST
DTSTART:20251102T070000
END:STANDARD
BEGIN:DAYLIGHT
TZOFFSETFROM:-0600
TZOFFSETTO:-0500
TZNAME:CDT
DTSTART:20260308T080000
END:DAYLIGHT
BEGIN:STANDARD
TZOFFSETFROM:-0500
TZOFFSETTO:-0600
TZNAME:CST
DTSTART:20261101T070000
END:STANDARD
END:VTIMEZONE
BEGIN:VEVENT
DTSTART;TZID=America/Chicago:20251207T080000
DTEND;TZID=America/Chicago:20251207T120000
DTSTAMP:20260423T154928
CREATED:20251125T173104Z
LAST-MODIFIED:20251125T212002Z
UID:10000171-1765094400-1765108800@crossservices.org
SUMMARY:Rogers Lions Club Breakfast with Santa 2025
DESCRIPTION:🎅 Rogers Lions Club – Breakfast with Santa Sunday\, December 7\, 2025 8:00 AM – 12:00 PM 21st Century Bank Event Center  \nKick off the holiday season with a warm and cheerful morning at the Rogers Lions Club Breakfast with Santa! Enjoy a delicious breakfast featuring pancakes\, French toast\, and sausage\, served hot and fresh. \nThis is a free-will donation event\, and 100% of the proceeds support CROSS Services in helping local neighbors in need. \nPhotos with Santa & Mrs. ClausBring a non-perishable food donation for CROSS Services and snap your own festive photos with Mr. and Mrs. Claus! \nRaffle – $5 per ticketTry your luck and support a great cause! \n\n\n1st Prize: Electric Scooter + Helmet \n\n\n2nd Prize: iPad 128GB \n\n\n3rd Prize: $50 Gift Card \n\n\nLearn more \nCome hungry\, bring your generosity\, and celebrate the magic of the season with your community! 🎄✨
URL:https://crossservices.org/event/rogers-lions-club-breakfast-with-santa-2025/
LOCATION:21st Century Bank Event Center\, 12716 Main St\, Rogers\, MN\, 55374
ATTACH;FMTTYPE=image/jpeg:https://crossservices.org/wp-content/uploads/2025/11/2025-Website-event-Page-Images-1600-x-900px-36-1.jpg
END:VEVENT
END:VCALENDAR