BEGIN:VCALENDAR
VERSION:2.0
PRODID:-//CROSS Services Food Shelf | Rogers, MN - ECPv6.15.16.1//NONSGML v1.0//EN
CALSCALE:GREGORIAN
METHOD:PUBLISH
X-WR-CALNAME:CROSS Services Food Shelf | Rogers, MN
X-ORIGINAL-URL:https://crossservices.org
X-WR-CALDESC:Events for CROSS Services Food Shelf | Rogers, MN
REFRESH-INTERVAL;VALUE=DURATION:PT1H
X-Robots-Tag:noindex
X-PUBLISHED-TTL:PT1H
BEGIN:VTIMEZONE
TZID:UTC
BEGIN:STANDARD
TZOFFSETFROM:+0000
TZOFFSETTO:+0000
TZNAME:UTC
DTSTART:20230101T000000
END:STANDARD
END:VTIMEZONE
BEGIN:VEVENT
DTSTART;TZID=UTC:20241012T093000
DTEND;TZID=UTC:20241012T140000
DTSTAMP:20260423T184551
CREATED:20240924T002647Z
LAST-MODIFIED:20240924T003158Z
UID:10000116-1728725400-1728741600@crossservices.org
SUMMARY:Fill the Truck at Cub Foods\, Maple Grove
DESCRIPTION:Saturday\, October 12\n9:30am-2pm. \nNorthwood Church is partnering with CROSS Services for a “Fill the Truck” Event at Cub Foods\, Maple Grove. Join us in supporting neighbors in need in our local communities by donating food and filling the truck
URL:https://crossservices.org/event/fill-the-truck-at-cub-foods-maple-grove/
LOCATION:Cub Food – Maple Grove\, 8150 Wedgewood Ln N\, Maple Grove\, MN\, 55369\, United States
ATTACH;FMTTYPE=image/png:https://crossservices.org/wp-content/uploads/2024/09/2023-2024-Website-event-Page-Images-2.png
END:VEVENT
END:VCALENDAR