BEGIN:VCALENDAR
VERSION:2.0
PRODID:-//CROSS Services Food Shelf | Rogers, MN - ECPv6.15.16.1//NONSGML v1.0//EN
CALSCALE:GREGORIAN
METHOD:PUBLISH
X-WR-CALNAME:CROSS Services Food Shelf | Rogers, MN
X-ORIGINAL-URL:https://crossservices.org
X-WR-CALDESC:Events for CROSS Services Food Shelf | Rogers, MN
REFRESH-INTERVAL;VALUE=DURATION:PT1H
X-Robots-Tag:noindex
X-PUBLISHED-TTL:PT1H
BEGIN:VTIMEZONE
TZID:UTC
BEGIN:STANDARD
TZOFFSETFROM:+0000
TZOFFSETTO:+0000
TZNAME:UTC
DTSTART:20240101T000000
END:STANDARD
END:VTIMEZONE
BEGIN:VEVENT
DTSTART;VALUE=DATE:20250716
DTEND;VALUE=DATE:20250812
DTSTAMP:20260423T184708
CREATED:20250716T000604Z
LAST-MODIFIED:20250716T203741Z
UID:10000155-1752624000-1754956799@crossservices.org
SUMMARY:Backpack Donation Drive – Maple Grove Police Department
DESCRIPTION:Help students start the school year strong! The Maple Grove Police Department is collecting new backpacks filled with school supplies for local kids in need. \n📍 Drop-off Location:12800 Arbor Lakes Pkwy N\, Maple Grove\, MN 55369 \n📅 Donation Dates: July 16 – August 11 \nStop by and drop off your donation — every filled backpack makes a difference to a local family! 💙
URL:https://crossservices.org/event/backpack-drive-at-the-police-station-2025/
LOCATION:Maple Grove Police Department\, 12800 Arbor Lakes Pkwy N\, Maple Grove\, MN\, 55369
ATTACH;FMTTYPE=image/jpeg:https://crossservices.org/wp-content/uploads/2025/07/2025-Website-event-Page-Images-17.jpg
END:VEVENT
END:VCALENDAR