BEGIN:VCALENDAR
VERSION:2.0
PRODID:-//CROSS Services Food Shelf | Rogers, MN - ECPv6.15.16.1//NONSGML v1.0//EN
CALSCALE:GREGORIAN
METHOD:PUBLISH
X-WR-CALNAME:CROSS Services Food Shelf | Rogers, MN
X-ORIGINAL-URL:https://crossservices.org
X-WR-CALDESC:Events for CROSS Services Food Shelf | Rogers, MN
REFRESH-INTERVAL;VALUE=DURATION:PT1H
X-Robots-Tag:noindex
X-PUBLISHED-TTL:PT1H
BEGIN:VTIMEZONE
TZID:UTC
BEGIN:STANDARD
TZOFFSETFROM:+0000
TZOFFSETTO:+0000
TZNAME:UTC
DTSTART:20230101T000000
END:STANDARD
END:VTIMEZONE
BEGIN:VEVENT
DTSTART;TZID=UTC:20251004T100000
DTEND;TZID=UTC:20251004T130000
DTSTAMP:20260423T171317
CREATED:20250724T021159Z
LAST-MODIFIED:20250903T185038Z
UID:10000159-1759572000-1759582800@crossservices.org
SUMMARY:First Class Mortgage Fall Festival
DESCRIPTION:You’re Invited:\nEnjoy food trucks\, mini donuts\, pumpkins\, llamas\, a balloon artist\, a bounce house\, live entertainment\, coffee\, and more.\nIt’s the perfect fall outing for families\, kids\, and pumpkin spice lovers alike! \nCROSS Services will be on-site welcoming food and monetary donations. \nRegister Today
URL:https://crossservices.org/event/first-class-mortgage-fall-festival-2/
LOCATION:First Class Mortgage\, 12906 63rd Ave N\, Maple Grove\, Minnesota
ATTACH;FMTTYPE=image/jpeg:https://crossservices.org/wp-content/uploads/2025/07/First-Class-Mortgage-2025-fall-fest.jpg
END:VEVENT
BEGIN:VEVENT
DTSTART;TZID=UTC:20241005T100000
DTEND;TZID=UTC:20241005T130000
DTSTAMP:20260423T171317
CREATED:20240808T232219Z
LAST-MODIFIED:20240813T010108Z
UID:10000112-1728122400-1728133200@crossservices.org
SUMMARY:First Class Mortgage Fall Festival
DESCRIPTION:You’re invited: Food Trucks\, pumpkins\, llamas\, balloon artist\, bounce house\, entertainment\, mini donuts\, coffee\, and MUCH MORE! CROSS Services will be on-site welcoming food and monetary donations.
URL:https://crossservices.org/event/first-class-mortgage-fall-festival/
LOCATION:First Class Mortgage\, 12906 63rd Ave N\, Maple Grove\, Minnesota
ATTACH;FMTTYPE=image/png:https://crossservices.org/wp-content/uploads/2024/08/2023-2024-Website-event-Page-Images-5.png
END:VEVENT
END:VCALENDAR