BEGIN:VCALENDAR
VERSION:2.0
PRODID:-//CROSS Services Food Shelf | Rogers, MN - ECPv6.15.16.1//NONSGML v1.0//EN
CALSCALE:GREGORIAN
METHOD:PUBLISH
X-WR-CALNAME:CROSS Services Food Shelf | Rogers, MN
X-ORIGINAL-URL:https://crossservices.org
X-WR-CALDESC:Events for CROSS Services Food Shelf | Rogers, MN
REFRESH-INTERVAL;VALUE=DURATION:PT1H
X-Robots-Tag:noindex
X-PUBLISHED-TTL:PT1H
BEGIN:VTIMEZONE
TZID:UTC
BEGIN:STANDARD
TZOFFSETFROM:+0000
TZOFFSETTO:+0000
TZNAME:UTC
DTSTART:20220101T000000
END:STANDARD
END:VTIMEZONE
BEGIN:VEVENT
DTSTART;VALUE=DATE:20240226
DTEND;VALUE=DATE:20240407
DTSTAMP:20260424T013131
CREATED:20240201T054209Z
LAST-MODIFIED:20240227T031300Z
UID:10000032-1708905600-1712447999@crossservices.org
SUMMARY:Boost Your Impact! Feb 26 - April 6
DESCRIPTION:Donate to CROSS Services between February 26 – April 6\, 2024 to boost your donation! MN FoodShare will match a portion of both food and financial donations given to CROSS Service during this campaign. \nOur goal for 2024 is to raise $100\,000 in financial donations and 100\,000 lbs of food. You can help us reach this goal and feed many of our neighbors in need! \nWays to Contribute: \n\nHost a Food Drive with your book club\, faith community\, neighborhood\, etc.\nHost a Fundraiser with your workplace. Don’t forget to ask your HR team if they have a matching gifts program!\nFood Donations can be made anytime at CROSS Services\, or at one of our Fill the Truck events!\n\nMarch 3rd from 1-5pm at Cub Foods in Maple Grove\nMarch 23rd at the Maple Grove Fire Station\n\n\n\nFinancial Donations can be made online by clicking HERE or mailed to CROSS Services at PO Box 574\, 12915 WEINAND CIR\, ROGERS\, MN 55374\n\nThe Minnesota FoodShare Campaign is the largest grassroots food and fund drive in the state. It brings together organizations\, businesses\, faith communities\, and individuals to help stock and support the capacity of nearly 300 food shelves. Be part of the movement!\n 
URL:https://crossservices.org/event/boost-your-impact-feb-26-april-6/
LOCATION:CROSS Services\, 12915 Weinand Circle\, Rogers\, MN\, 55374\, United States
ATTACH;FMTTYPE=image/png:https://crossservices.org/wp-content/uploads/2024/01/2024-MN-FoodShare-Feb.-26-April-6-1600-x-900-px-3.png
END:VEVENT
BEGIN:VEVENT
DTSTART;TZID=UTC:20240217T140000
DTEND;TZID=UTC:20240217T210000
DTSTAMP:20260424T013131
CREATED:20240201T101757Z
LAST-MODIFIED:20240220T021908Z
UID:10000034-1708178400-1708203600@crossservices.org
SUMMARY:The Pond Fest
DESCRIPTION:Come join the fun! \nSupport Isle Food Shelf and CROSS Services of Rogers! We are collecting non-expired non-perishables\, cleaning supplies\, & new or gently used jackets\, hats\, & gloves. \n  \n2:00pm – 5:00pm – Games and Fun On the ice! \n6:00pm – 9:00pm – The Band Smok’n Guns Inside \n  \nDetails: \n\nBYOB/Chair & Fun Attitude\, Games\nFreewill donations appreciated.\nContact Sonny with questions 763-639-0303\n\n  \n 
URL:https://crossservices.org/event/the-pond-fest/
LOCATION:MSA Flagship Lake Mille Lacs\, 46474 Bay Ave\, Isle\, Minnesota\, 56342
ATTACH;FMTTYPE=image/png:https://crossservices.org/wp-content/uploads/2024/02/The-Pond-Fest-CROSS.png
END:VEVENT
BEGIN:VEVENT
DTSTART;VALUE=DATE:20240211
DTEND;VALUE=DATE:20240218
DTSTAMP:20260424T013131
CREATED:20240130T233910Z
LAST-MODIFIED:20240201T094003Z
UID:10000030-1707609600-1708214399@crossservices.org
SUMMARY:Save 50% on Ultimate Car Wash At Crew Carwash
DESCRIPTION:Save The Date: February 11-17th \nSave the date for a cleaner car and a greater cause! Enjoy 50% off an Ultimate Wash at Crew Carwash from February 11-17 at any of their locations\, with 100% of the proceeds benefitting CROSS Services. \nSelect the Crew Carwash most convenient to you and show the image below to redeem! \n 
URL:https://crossservices.org/event/crew-carwash/
ATTACH;FMTTYPE=image/png:https://crossservices.org/wp-content/uploads/2024/01/Crew-Carwash-Event-Page.png
END:VEVENT
BEGIN:VEVENT
DTSTART;VALUE=DATE:20240101
DTEND;VALUE=DATE:20240113
DTSTAMP:20260424T013131
CREATED:20240103T033846Z
LAST-MODIFIED:20240103T034210Z
UID:10000028-1704067200-1705103999@crossservices.org
SUMMARY:Winter Coat & Apparel Drive
DESCRIPTION:Join Saint Thomas the Apostle in Corcoran in their winter apparel drive for CROSS Services! They will be collecting coats\, hats\, mittens\, scarves\, etc. to keep our neighbors warm this winter.
URL:https://crossservices.org/event/winter-coat-apparel-drive/
LOCATION:Saint Thomas the Apostle\, 20000 County Road 10\, Corcoran\, MN\, 55340
ATTACH;FMTTYPE=image/png:https://crossservices.org/wp-content/uploads/2023/12/Website-event-Page-Images-14.png
END:VEVENT
BEGIN:VEVENT
DTSTART;TZID=UTC:20231217T160000
DTEND;TZID=UTC:20231217T190000
DTSTAMP:20260424T013131
CREATED:20231216T013531Z
LAST-MODIFIED:20231216T013531Z
UID:10000096-1702828800-1702839600@crossservices.org
SUMMARY:Pictures with Santa
DESCRIPTION:Santa Clause is coming to Short or Tall!\n\n Free Festive Photos for All\nBring your cameras and smartphones because the magic of the season is best captured with loved ones while drinking a local MN beer or 1919 root beer. Our elves will be on hand to ensure every snapshot is filled with the warmth and magic of the holidays!\n\n Spread Goodwill and Cheer\nAt Short or Tall\, they believe in the power of giving back to the community. In the spirit of the season\, they will be accepting goodwill donations to benefit our local food shelf\, CROSS Services. They will be welcoming the following donations:\n-In-date canned and boxed food items\n-Personal hygiene products\n-New unused cleaning products\n-Disposable diapers\n-In-date baby formula and baby food\n\nLearn more on their Facebook Event Page.
URL:https://crossservices.org/event/pictures-with-santa/
ATTACH;FMTTYPE=image/png:https://crossservices.org/wp-content/uploads/2023/12/Website-event-Page-Images-17.png
END:VEVENT
BEGIN:VEVENT
DTSTART;TZID=UTC:20231211T090000
DTEND;TZID=UTC:20231211T113000
DTSTAMP:20260424T013131
CREATED:20231201T232426Z
LAST-MODIFIED:20240104T003613Z
UID:10000087-1702285200-1702294200@crossservices.org
SUMMARY:December Job Club
DESCRIPTION:Job help as easy as 1\, 2\, 3.\n1. Connect with safe support during the challenging time of job transition or career exploration.\n2. Learn techniques to: \n\nNavigate gaining employment.\nIdentify “what you want to be when you grow up” with an expert career counselor.\nRefine your resume! For the December Job Club we ask that you bring your resume.\n\n3. Believe in your strengths\, skills\, and knowledge to discover what industries\, careers\, and jobs will fit you the best.\nMeeting dates below\, space is limited to 20 job seekers. Join the Job Club in the Main Street Meeting Room of the Maple Grove Library. Light refreshments will be provided. \n  \nDecember Job Club \nWe will focus on resume writing and welcome Marney Curfman\, Outreach Coordinator\, at MNDOT Metro District. She will be sharing an overview of how to apply for jobs at MNDOT and the State of Minnesota agencies. \nReserve your space by emailing Esther at esther@crossservices.org
URL:https://crossservices.org/event/job-club-dec-23/
LOCATION:Maple Grove Library\, 8001 Main Street N\, Maple Grove\, MN
ATTACH;FMTTYPE=image/png:https://crossservices.org/wp-content/uploads/2023/12/Website-event-Page-Images-13.png
END:VEVENT
BEGIN:VEVENT
DTSTART;TZID=UTC:20231209T170000
DTEND;TZID=UTC:20231209T200000
DTSTAMP:20260424T013131
CREATED:20231129T034613Z
LAST-MODIFIED:20231201T025628Z
UID:10000085-1702141200-1702152000@crossservices.org
SUMMARY:Skate with Santa
DESCRIPTION:Join Santa as he visits from the North Pole for a free evening of skating and holiday music at Central Park! Also\, enjoy the ceremony showcasing the Maple Grove Rotary holiday light display. Bring your own skates or skate rentals are available for $7.50 a pair.  Don’t forget a cameral for fun photos with Santa! \nWe will also be collecting donations for CROSS Services\, and encourage all that are able to bring non-perishable food items. \n 
URL:https://crossservices.org/event/skate-with-santa/
LOCATION:Central Park Ice Skating Loop\, 12000 Central Parkway\, Maple Grove\, MN\, 55369
ATTACH;FMTTYPE=image/png:https://crossservices.org/wp-content/uploads/2023/11/Skate-with-Santa-2.png
END:VEVENT
BEGIN:VEVENT
DTSTART;TZID=UTC:20231207T113000
DTEND;TZID=UTC:20231207T130000
DTSTAMP:20260424T013131
CREATED:20231129T033721Z
LAST-MODIFIED:20231129T045225Z
UID:10000083-1701948600-1701954000@crossservices.org
SUMMARY:I-94 West Chamber of Commerce Holiday Celebration & Toy Drive
DESCRIPTION:Come join us for the Annual I-94 West Chamber Holiday Luncheon!  Enjoy networking\, lunch and an opportunity to support a great local non-profit. Please bring a toy or donation item for CROSS to help make a child’s holiday season a little brighter! \nThursday Dec 7\, 2023\n11:30 AM – 1:00 PM CST \nREGISTER for $30
URL:https://crossservices.org/event/i-94-west-chamber-of-commerce-holiday-celebration-toy-drive/
ATTACH;FMTTYPE=image/png:https://crossservices.org/wp-content/uploads/2023/11/Website-event-Page-Images-11.png
END:VEVENT
BEGIN:VEVENT
DTSTART;VALUE=DATE:20231204
DTEND;VALUE=DATE:20231216
DTSTAMP:20260424T013131
CREATED:20231208T000116Z
LAST-MODIFIED:20241211T041357Z
UID:10000093-1701648000-1702684799@crossservices.org
SUMMARY:2023 Coat Drives
DESCRIPTION:Help our neighbors stay warm this winter by donating hats\, gloves\, mittens\, etc.! Donations can be dropped off directly at CROSS Services or at one of the locations listed below. \n  \nFernbrook Elementary School | 12/4 – 12/14\n9661 Fernbrook Ln N\, Maple Grove\, MN 55369\nFernbrook Elementary School will be collecting a variety of items including dry goods\, toys\, hats and gloves \n  \nUnited Hardware 12/4-12/15\n6655 Wedgwood Rd N Suite 170\, Maple Grove\, MN 55311\n \nUnited Hardware is collecting coats\, hats\, mittens\, scarves\, and gifts on behalf of CROSS Services \nKing Solutions | 12/4-12/18\n11011 Holly Lane North\, Dayton MN 55369 \nKing Solutions is collecting coats\, toys\, and gift cards on behalf of CROSS Services.
URL:https://crossservices.org/event/coat-drives-2023/
ATTACH;FMTTYPE=image/png:https://crossservices.org/wp-content/uploads/2023/12/Website-event-Page-Images-14.png
END:VEVENT
BEGIN:VEVENT
DTSTART;TZID=UTC:20231202T143000
DTEND;TZID=UTC:20231202T173000
DTSTAMP:20260424T013131
CREATED:20231104T235221Z
LAST-MODIFIED:20231104T235259Z
UID:10000073-1701527400-1701538200@crossservices.org
SUMMARY:Santa at The Shoppes of Arbor Lakes
DESCRIPTION:SATURDAY\, DECEMBER 2\n2:30–5:30PM\nTHE SHOPPES AT ARBOR LAKES \nJoin The Shoppes at Arbor Lakes as they celebrate the season and support CROSS Services through a Toy Drive! You can also donate toys directly to CROSS Services by shopping for toys on Amazon. \nSanta at The Shoppes event includes: \n\nCarolers\nHorse Drawn Carriage Rides\nLight Parade\nSanta’s Workshop with Kids Activities\nFood\nOMNI Warming House\nMarketplace\nHoliday Elfie Selfie Stations\nCross Services Toy Drive\nLive Music\nTree Lighting\nAnd of course\, Santa\n\nDon’t miss Santa lighting the tree at 5pm at the roundabout.\nFor more information\, visit shoppesatarborlakes.com/events
URL:https://crossservices.org/event/santa-at-the-shoppes-of-arbor-lakes/
LOCATION:The Shoppes at Arbor Lakes\, 12459 Elm Creek Blvd N\, Maple Grove\, MN\, 55369
ATTACH;FMTTYPE=image/png:https://crossservices.org/wp-content/uploads/2023/11/Copy-of-Job-Club-newsletter-1600-x-900-px.png
END:VEVENT
BEGIN:VEVENT
DTSTART;VALUE=DATE:20231201
DTEND;VALUE=DATE:20240101
DTSTAMP:20260424T013131
CREATED:20231207T232925Z
LAST-MODIFIED:20231214T224619Z
UID:10000089-1701388800-1704067199@crossservices.org
SUMMARY:December Toy Drives
DESCRIPTION:We have partnered with organizations throughout the communities we serve to support families throughout the holiday season. You may also buy gifts directly from our Amazon Toy Shop. \nWith your help\, we can ensure our neighbors and their children have a happy holiday season! \nWe welcome the following items: \n\nNew\, unwrapped toys and gifts for ages 0-10\nGift cards for ages 11-18\n\n\nLocal Toy Drive Locations\nSanta at The Shoppes | 12/2 2:30pm-5:30pm\nThe Shoppes at Arbor Lakes – 12459 Elm Creek Blvd N\, Maple Grove\, MN \nJoin The Shoppes at Arbor Lakes as they celebrate the season and support CROSS Services through a Toy Drive! For more information\, visit shoppesatarborlakes.com/events \n  \nMaple Grove Police Department | 11/14-12/9\n12800 Arbor Lakes Pkwy N\, Maple Grove\, MN \n  \n\nFrankie’s Pizza Annual Toy Drive | 11/1-12/10\nFrankie’s Chicago Style Pizza\, 13724 83rd Way N\, Maple Grove\, MN \nJoin Frankie’s Chicago Style Pizza for their annual holiday Toy Drive benefiting CROSS Services. When you donate 1 or more packages toys you will receive a $5 gift certificate or a FREE Quick Bite. Learn more here. \n\n  \nFernbrook Elementary School | 12/4 – 12/14\n9661 Fernbrook Ln N\, Maple Grove\, MN 55369\nFernbrook Elementary School will be collecting a variety of items including dry goods\, toys\, hats and gloves. \n  \nBasswood Elementary | 12/11-12/15\n15425 Bass Lake Rd\, Maple Grove\, MN 55311 \n  \nUnited Hardware | 12/1-12/15\n6655 Wedgwood Rd N Suite 170\, Maple Grove\, MN 55311\n \nUnited Hardware is collecting gift cards\, coats\, hats\, and mittens on behalf of CROSS Services. \n  \nKing Solutions | 12/1-12/18\n11011 Holly Lane North\, Dayton MN 55369 \nKing Solutions is collecting toys\, gift cards and coats on behalf of CROSS Services. \n  \nDojo Karate – Rogers | 12/1-12/21\n21410 136th Ave N\, Suite 102 Rogers\, MN 55374 \n  \nThe Shoppes at Arbor Lakes | 12/1-12/23\nThe Shoppes at Arbor Lakes – 12459 Elm Creek Blvd N\, Maple Grove\, MN \nDonations of new unwrapped toys and non-perishable food can be dropped off at the Mall Management Office M-F\, 8am-5pm or in a collection bin in the vestibule. The office is located behind Lane Bryant across from the Parking Ramp.
URL:https://crossservices.org/event/december-toy-drives/
ATTACH;FMTTYPE=image/png:https://crossservices.org/wp-content/uploads/2023/11/Website-event-Page-Images-6.png
END:VEVENT
BEGIN:VEVENT
DTSTART;VALUE=DATE:20231201
DTEND;VALUE=DATE:20231226
DTSTAMP:20260424T013131
CREATED:20231207T234222Z
LAST-MODIFIED:20231209T030758Z
UID:10000091-1701388800-1703548799@crossservices.org
SUMMARY:December Food Drives
DESCRIPTION:CROSS supports our communities by providing food for those in need. We have partnered with organizations throughout the communities we serve to support families and ensure they have food this holiday season. Please consider dropping off shelf-stable food items at CROSS Services or a partner near you. \n  \nSkate with Santa | 12/9 5pm-8pm\nCentral Park Ice Skating Loop 12000 Central Parkway\, Maple Grove\, MN \nJoin Santa as he visits from the North Pole for a free evening of skating and holiday music at Central Park! Also\, enjoy the ceremony showcasing the Maple Grove Rotary holiday light display. Bring your own skates or skate rentals are available for $7.50 a pair. Don’t forget a cameral for fun photos with Santa! \nWe will also be collecting donations for CROSS Services\, and encourage all that are able to bring non-perishable food items. \n  \nFernbrook Elementary School | 12/4 – 12/14\n9661 Fernbrook Ln N\, Maple Grove\, MN 55369\nFernbrook Elementary School will be collecting a variety of items including dry goods\, toys\, hats and gloves. \n  \nADO Products | 12/1-12/19\n13220 Wilfred Lane North\, Suite 100\, Rogers\, MN 55374\n \nADO Products is collecting dry goods and hygiene items on behalf of CROSS Services. \n  \nEdina Realty Maple Grove | Through 12/29\n7767 Elm Creek Blvd N Ste\, 200\, Maple Grove\, MN 55369 \nEdina Realty (Maple Grove) is collecting canned food and personal hygiene products on behalf of CROSS Services through December 29th. \n  \nSanta at The Shoppes | 12/1-12/31\nThe Shoppes at Arbor Lakes – 12459 Elm Creek Blvd N\, Maple Grove\, MN \nDonations of new unwrapped toys and non-perishable food can be dropped off at the Mall Management Office M-F\, 8am-5pm or in a collection bin in the vestibule. The office is located behind Lane Bryant across from the Parking Ramp. \n  \n 
URL:https://crossservices.org/event/december-food-drives/
ATTACH;FMTTYPE=image/png:https://crossservices.org/wp-content/uploads/2023/11/Website-event-Page-Images-5.png
END:VEVENT
BEGIN:VEVENT
DTSTART;VALUE=DATE:20231201
DTEND;VALUE=DATE:20231220
DTSTAMP:20260424T013131
CREATED:20231208T001814Z
LAST-MODIFIED:20231208T002621Z
UID:10000095-1701388800-1703030399@crossservices.org
SUMMARY:December Hygiene Drives
DESCRIPTION:One of the ways CROSS Services supports neighbors in our communities is by supplying them with hygiene products. You may drop off new hygiene products directly at CROSS Services or at one of our community partner locations. \n  \nMary Queen of Peace Catholic School |12/1\n21201 Church Ave\, Rogers\, MN 55374\n \n  \nADO Products | 12/1-12/19\n13220 Wilfred Lane North\, Suite 100 Rogers\, MN 55374
URL:https://crossservices.org/event/december-hygiene-drives/
ATTACH;FMTTYPE=image/png:https://crossservices.org/wp-content/uploads/2023/12/Website-event-Page-Images-16.png
END:VEVENT
BEGIN:VEVENT
DTSTART;VALUE=DATE:20231127
DTEND;VALUE=DATE:20231128
DTSTAMP:20260424T013131
CREATED:20230509T074527Z
LAST-MODIFIED:20231122T104236Z
UID:10000072-1701043200-1701129599@crossservices.org
SUMMARY:Maynard's 100% Day for CROSS Services
DESCRIPTION:Monday\, Nov. 27\, 2023 \n\n\nTake a break from cooking on Monday\, November 27th\, and dine in or take out at Maynard’s Restaurant of Rogers. 100% of the proceeds from the day will benefit CROSS Services! \n\n\n\nVisit from 3-7pm for photo opportunities with Santa Claus and Mrs. Claus  and drop off new\, unwrapped toys and gift cards for children in need in CROSS Services Communities or you can purchase toys directly from our Amazon Toy Shop!
URL:https://crossservices.org/event/maynards-2023/
LOCATION:Maynard’s\, 21415 136th Ave N\,\, Rogers\, MN\, 55374\, United States
ATTACH;FMTTYPE=image/png:https://crossservices.org/wp-content/uploads/2023/05/Website-event-Page-Images-1.png
END:VEVENT
BEGIN:VEVENT
DTSTART;VALUE=DATE:20231124
DTEND;VALUE=DATE:20231127
DTSTAMP:20260424T013131
CREATED:20231119T013044Z
LAST-MODIFIED:20231121T020632Z
UID:10000082-1700784000-1701043199@crossservices.org
SUMMARY:Flooring Avenue - Pictures with Santa & Mrs. Claus
DESCRIPTION:Join Flooring Avenue in celebrating the holidays November 24-26! \n\nPictures with Santa & Mrs. Claus\nPresents from Santa for every child\nCrafts\, Christmas movies\, snacks & beverages\nFestive backdrops for photos while you wait\nLive Reindeer – Saturday Only\nThe Grinch will be roaming the showroom – Saturday Only\nAccepting donations for CROSS Services: shelf stable food\, hygiene products\, or toys & gift card for kids\n\nTickets are first come\, first serve. \n 
URL:https://crossservices.org/event/flooring-avenue-pictures-with-santa-mrs-claus/
LOCATION:Flooring Avenue\, 21200 Rogers Ave\, Rogers\, MN\, 55374
ATTACH;FMTTYPE=image/png:https://crossservices.org/wp-content/uploads/2023/11/Website-event-Page-Images-2.png
END:VEVENT
BEGIN:VEVENT
DTSTART;VALUE=DATE:20231113
DTEND;VALUE=DATE:20231118
DTSTAMP:20260424T013131
CREATED:20231115T104815Z
LAST-MODIFIED:20231115T104815Z
UID:10000079-1699833600-1700265599@crossservices.org
SUMMARY:Concretes for a Cause
DESCRIPTION:Join CROSS Services and Culvers in Rogers for Concretes for a Cause! Stop by between now and November 17th and purchase a concrete mixer from Culvers in Rogers and $1 will be donated to CROSS Services!
URL:https://crossservices.org/event/concretes-for-a-cause/
LOCATION:Culvers Rogers\, 13605 Northdale Blvd\, Rogers\, MN\, 55374\, United States
ATTACH;FMTTYPE=image/png:https://crossservices.org/wp-content/uploads/2023/11/Concretes-for-a-Cause-Dec-1600-x-900-px.png
END:VEVENT
BEGIN:VEVENT
DTSTART;VALUE=DATE:20231106
DTEND;VALUE=DATE:20231119
DTSTAMP:20260424T013131
CREATED:20231114T055318Z
LAST-MODIFIED:20231115T043536Z
UID:10000074-1699228800-1700351999@crossservices.org
SUMMARY:Toys for Chicken
DESCRIPTION:Monday\, November 6th to Saturday\, November 18th. \nBring in a new\, unwrapped toy for a child 0-10 years to Chick-fil-A Maple Grove and receive a Be Our Guest Card good for FREE chicken! \nToys will be picked up by CROSS Services and distributed to allow a Christmas gift to those who may not otherwise receive one.
URL:https://crossservices.org/event/toys-for-chicken/
LOCATION:Chick-fil-A\, 11820 Fountains Way\, Maple Grove\, 55369
ATTACH;FMTTYPE=image/png:https://crossservices.org/wp-content/uploads/2023/11/Chick-fil-A-Toys-for-Chicken.png
END:VEVENT
BEGIN:VEVENT
DTSTART;VALUE=DATE:20231101
DTEND;VALUE=DATE:20231211
DTSTAMP:20260424T013131
CREATED:20231114T055702Z
LAST-MODIFIED:20231121T021221Z
UID:10000075-1698796800-1702252799@crossservices.org
SUMMARY:Frankie's Pizza Annual Toy Drive
DESCRIPTION:Join Frankie’s Chicago Style Pizza for their annual holiday Toy Drive benefiting CROSS Services. \nWhen you donate 1 or more packages toys you will receive a $5 gift certificate or a FREE Quick Bite. \nLearn more here.
URL:https://crossservices.org/event/frankies-pizza-annual-toy-drive/
LOCATION:Frankie’s Chicago Style Pizza\, 13724 83rd Way N\, Maple Grove\, MN\, 55369
ATTACH;FMTTYPE=image/png:https://crossservices.org/wp-content/uploads/2023/11/Website-event-Page-Images-4.png
END:VEVENT
BEGIN:VEVENT
DTSTART;VALUE=DATE:20231101
DTEND;VALUE=DATE:20231127
DTSTAMP:20260424T013131
CREATED:20231115T044435Z
LAST-MODIFIED:20231121T101607Z
UID:10000078-1698796800-1701043199@crossservices.org
SUMMARY:Local Food Drives
DESCRIPTION:CROSS supports our communities by providing food for those in need. We have partnered with organizations throughout the communities we serve to support families and ensure they have food this holiday season. \nPlease consider dropping off shelf-stable food items at CROSS Services or a partner near you. \n  \nLocal Partners\nThe Accountant House | 11/1-11/20\n105 Central Ave E Suite B\, St Michael\, MN 55376 \n  \nJeté Dance Centre | 11/1-11/30\n20401 County Rd 81 Suite #200\, Rogers\, MN 55374 \n  \nElm Creek Elementary | 11/13-11/17\n9830 Revere Ln N\, Maple Grove\, MN 55369 \n  \nDojo Karate – Rogers | 11/1-11/21 \n\n\n\n\nFlooring Avenue | 11/24-11/26\n21410 136th Ave N Suite 102\, Rogers\, MN 55374
URL:https://crossservices.org/event/local-food-drives/
ATTACH;FMTTYPE=image/png:https://crossservices.org/wp-content/uploads/2023/11/Website-event-Page-Images-5.png
END:VEVENT
BEGIN:VEVENT
DTSTART;VALUE=DATE:20231101
DTEND;VALUE=DATE:20231117
DTSTAMP:20260424T013131
CREATED:20230409T080531Z
LAST-MODIFIED:20231121T112052Z
UID:10000071-1698796800-1700179199@crossservices.org
SUMMARY:Give to the Max 2023
DESCRIPTION:
URL:https://crossservices.org/event/give-to-the-max-2023/
ATTACH;FMTTYPE=image/png:https://crossservices.org/wp-content/uploads/2023/10/Copy-of-Maynards-2022-1.png
END:VEVENT
END:VCALENDAR