BEGIN:VCALENDAR
VERSION:2.0
PRODID:-//CROSS Services Food Shelf | Rogers, MN - ECPv6.15.16.1//NONSGML v1.0//EN
CALSCALE:GREGORIAN
METHOD:PUBLISH
X-WR-CALNAME:CROSS Services Food Shelf | Rogers, MN
X-ORIGINAL-URL:https://crossservices.org
X-WR-CALDESC:Events for CROSS Services Food Shelf | Rogers, MN
REFRESH-INTERVAL;VALUE=DURATION:PT1H
X-Robots-Tag:noindex
X-PUBLISHED-TTL:PT1H
BEGIN:VTIMEZONE
TZID:America/Chicago
BEGIN:DAYLIGHT
TZOFFSETFROM:-0600
TZOFFSETTO:-0500
TZNAME:CDT
DTSTART:20250309T080000
END:DAYLIGHT
BEGIN:STANDARD
TZOFFSETFROM:-0500
TZOFFSETTO:-0600
TZNAME:CST
DTSTART:20251102T070000
END:STANDARD
BEGIN:DAYLIGHT
TZOFFSETFROM:-0600
TZOFFSETTO:-0500
TZNAME:CDT
DTSTART:20260308T080000
END:DAYLIGHT
BEGIN:STANDARD
TZOFFSETFROM:-0500
TZOFFSETTO:-0600
TZNAME:CST
DTSTART:20261101T070000
END:STANDARD
BEGIN:DAYLIGHT
TZOFFSETFROM:-0600
TZOFFSETTO:-0500
TZNAME:CDT
DTSTART:20270314T080000
END:DAYLIGHT
BEGIN:STANDARD
TZOFFSETFROM:-0500
TZOFFSETTO:-0600
TZNAME:CST
DTSTART:20271107T070000
END:STANDARD
END:VTIMEZONE
BEGIN:VTIMEZONE
TZID:UTC
BEGIN:STANDARD
TZOFFSETFROM:+0000
TZOFFSETTO:+0000
TZNAME:UTC
DTSTART:20250101T000000
END:STANDARD
END:VTIMEZONE
BEGIN:VEVENT
DTSTART;VALUE=DATE:20260228
DTEND;VALUE=DATE:20260517
DTSTAMP:20260423T091849
CREATED:20260109T214332Z
LAST-MODIFIED:20260406T175526Z
UID:10000173-1772236800-1778975999@crossservices.org
SUMMARY:Upcoming Community Drives & Events
DESCRIPTION:Special Events\n4/9/26-4/12/26 – Minnesota Yarn Shop Hop: Stop by and make your donation to Amazing Threads in advance to get your EZ Pass sticker on your passport for the event! \n5/16/26 – InterMarque Spring Kick-off Car Show – Food and Hygiene Drive
URL:https://crossservices.org/event/upcoming-community-drives/
CATEGORIES:Community Events
ATTACH;FMTTYPE=image/jpeg:https://crossservices.org/wp-content/uploads/2026/01/2026-Community-Drives-and-Events-for-CROSS-Services.jpg
END:VEVENT
BEGIN:VEVENT
DTSTART;VALUE=DATE:20260425
DTEND;VALUE=DATE:20260427
DTSTAMP:20260423T091849
CREATED:20260206T170538Z
LAST-MODIFIED:20260409T024820Z
UID:10000070-1777075200-1777247999@crossservices.org
SUMMARY:2026 Pickle with Purpose
DESCRIPTION:Grab Your Paddle & Serve Up Hope!\nSaturday\, April 25th & Sunday\, April 26th\n\nGrab your paddle and join CROSS Services for Pickle with Purpose\, a Pickleball Doubles Tournament presented by Bond & Devick Wealth Partners and Wagner benefiting CROSS Services and the local community. \n100% of registration proceeds directly support CROSS Services’ programs that help individuals and families access food\, navigate life transitions\, and build stability during times of need. Join us for a fun\, high-energy community event and help make a meaningful difference close to home. \nThis tournament will be hosted at Pints & Paddle in Maple Grove and features pool play with the top teams advancing to a single elimination bracket. Both pool play and the single elimination bracket will happen the same day. Not all teams will advance to the single elimination round. \nTeams will get 5 game minimum assuming we get full pools (6 teams). Otherwise teams will play 4 games of pool play (games will be played to higher points). Top teams from each pool advance to the same day\, single elimination bracket. \n\n\nFull list of tournament rules \n\n\nTournament Highlights\n\nDoubles Brackets: Men’s\, Women’s\, and Co-ed\nOn-site Activities: Raffle\, silent auction\, and more!\nFood & Beverages: Available for purchase onsite\nAward Ceremony: At the conclusion of each tournament\n\n\nRegistration Pricing\n\nUntil April 1st\, $55 per player for the first event\, an additional $45 if you sign up for a second event.\nAfter April 1st\, $60 per player for the first event\, an additional $45 if you sign up for a second event.\n\n\nAll brackets have a $5\, non-refundable pickleball brackets fee. \n\n \n\nSponsorships Are Available\nJoin us in making a meaningful impact in our community! Support CROSS Services and become a valued sponsor of our upcoming event. Together\, let’s create positive change and support those in need.  \nClick here to explore sponsorship opportunities and contact Molly at Molly@crossservices.org to showcase your commitment to making a difference. Confirm your sponsorship level and make your payment here.
URL:https://crossservices.org/event/pickle-with-purpose-2026/
LOCATION:Pints & Paddle\, 15450 Grove Cir N\, Maple Grove\, MN\, 55369
CATEGORIES:Signature Events
ATTACH;FMTTYPE=image/jpeg:https://crossservices.org/wp-content/uploads/2026/02/white-to-transparent-overlay-with-presented-by-5.jpg
END:VEVENT
BEGIN:VEVENT
DTSTART;TZID=America/Chicago:20260505T173000
DTEND;TZID=America/Chicago:20260505T203000
DTSTAMP:20260423T091849
CREATED:20260211T171022Z
LAST-MODIFIED:20260420T144004Z
UID:10000174-1778002200-1778013000@crossservices.org
SUMMARY:2026 Empty Bowls
DESCRIPTION:Empty Bowls 2026\nAn Evening of Community and Connection\nJoin us for Empty Bowls\, one of CROSS Services’ signature fundraising events\, on Tuesday\, May 5\, 2026\, at Rush Creek Golf Course in Maple Grove. This reimagined\, adults-only evening brings neighbors together around food\, conversation\, and generosity in support of individuals and families served by CROSS Services. \nEmpty Bowls welcomes approximately 230 guests for an intimate evening experience focused on community\, care\, and shared purpose. \nDate: Tuesday\, May 5\, 2026\nTime: 5:30 – 8:30 PM\nLocation: Rush Creek Golf Course\, 7801 County Rd 101\, Maple Grove\nTickets: $75 per person\nThis is a 21+ event. \nWhat to Expect\nGuests will enjoy: \n\nSampling from multiple food stations\nA cash bar featuring beer\, wine\, and cocktails\nLive music throughout the evening\nA silent auction and raffle with exciting prizes\n\nAs a meaningful reminder of the night\, each guest will take home a handcrafted pottery bowl\, generously created and donated by local artists\, a symbol of community\, care\, and hope. \n \nWhy Empty Bowls Matters\nProceeds from Empty Bowls support CROSS Services’ programs that help individuals and families: \n\nAccess healthy\, reliable food\nNavigate life transitions\nBuild stability during times of unexpected hardship\n\nWhen neighbors don’t have to worry about their next meal\, they can focus on what comes next — caring for their families\, maintaining stability\, and moving forward with dignity. \nFilling Bowls. Feeding Lives.\nAt CROSS Services\, we believe that when a community comes together\, we can ease the burden of food insecurity and strengthen the lives of those around us. By attending Empty Bowls\, you are helping ensure local families have the support they need today — and the opportunity to build brighter futures tomorrow. \nInterested in Sponsorship?\nSponsorship opportunities are available for Empty Bowls 2026.\nClick here to learn about Sponsorship Opportunities or contact Andrea Fahrenkrug at Andrea@crossservices.org to become a sponsor. Confirm your sponsorship level and make your payment here. \n 
URL:https://crossservices.org/event/empty-bowls-2026/
LOCATION:Rush Creek Golf Course\, 7801 County Road 101 N\, Maple Grove\, MN\, 55331
CATEGORIES:Signature Events
ATTACH;FMTTYPE=image/jpeg:https://crossservices.org/wp-content/uploads/2026/02/2025-Website-event-Page-Images-1600-x-900px-49.jpg
END:VEVENT
END:VCALENDAR